BEGIN:VCALENDAR
VERSION:2.0
PRODID:-//Kuća umjetnosti Arsen - ECPv5.5.0//NONSGML v1.0//EN
CALSCALE:GREGORIAN
METHOD:PUBLISH
X-WR-CALNAME:Kuća umjetnosti Arsen
X-ORIGINAL-URL:https://kucaarsen.hr
X-WR-CALDESC:Događaji za Kuća umjetnosti Arsen
BEGIN:VTIMEZONE
TZID:Europe/Zagreb
BEGIN:DAYLIGHT
TZOFFSETFROM:+0100
TZOFFSETTO:+0200
TZNAME:CEST
DTSTART:20260329T010000
END:DAYLIGHT
BEGIN:STANDARD
TZOFFSETFROM:+0200
TZOFFSETTO:+0100
TZNAME:CET
DTSTART:20261025T010000
END:STANDARD
END:VTIMEZONE
BEGIN:VEVENT
DTSTART;TZID=Europe/Zagreb:20260321T110000
DTEND;TZID=Europe/Zagreb:20260321T110000
DTSTAMP:20260420T110534
CREATED:20260216T142604Z
LAST-MODIFIED:20260218T143714Z
UID:12658-1774090800-1774090800@kucaarsen.hr
SUMMARY:Kapljice života
DESCRIPTION:O PREDSTAVI \nPredstava ”Kapljice života” priča nam priču o tomu kako su tri kapljice vode spasile Šibenik\, njegove stanovnike\, kućne ljubimce i gradske ptičice od velike žeđi u vrijeme jedne iznimno sušne godine…  \nKako? Doznajte na predstavi! \nKazališna družina ”Virko” \nDOB: 3+ \n  \nULAZNICE \nZa Klub prijatelja 3\,50€/ redovna cijena 5\,00€  \nUlaznice po redovnoj cijeni dostupne su online i na blagajni Kuće umjetnosti Arsen. \nČlanovi Kluba prijatelja popust ostvaruju uz predočenje važeće članske iskaznice na blagajni Kuće umjetnosti Arsen. \nKako bi djeca na zabavan način bila potaknuta na redovito sudjelovanje u predstavama i filmskim projekcijama\, osmišljen je program vjernosti Bubamarac klub o kojem više možete pročitati OVDJE.
URL:https://kucaarsen.hr/event/kapljice-zivota/
LOCATION:Kuća umjetnosti Arsen\, Obala hrvatske mornarice 1\, Šibenik\, 22000
CATEGORIES:Djeca i mladi,Kazalište
ATTACH;FMTTYPE=image/jpeg:https://kucaarsen.hr/wp-content/uploads/2026/02/kapljice-zivota-arsen.jpg
GEO:43.7324192;15.8902935
X-APPLE-STRUCTURED-LOCATION;VALUE=URI;X-ADDRESS=Kuća umjetnosti Arsen Obala hrvatske mornarice 1 Šibenik 22000;X-APPLE-RADIUS=500;X-TITLE=Obala hrvatske mornarice 1:geo:15.8902935,43.7324192
END:VEVENT
END:VCALENDAR