BEGIN:VCALENDAR
VERSION:2.0
PRODID:-//Kuća umjetnosti Arsen - ECPv5.5.0//NONSGML v1.0//EN
CALSCALE:GREGORIAN
METHOD:PUBLISH
X-WR-CALNAME:Kuća umjetnosti Arsen
X-ORIGINAL-URL:https://kucaarsen.hr
X-WR-CALDESC:Događaji za Kuća umjetnosti Arsen
BEGIN:VTIMEZONE
TZID:Europe/Zagreb
BEGIN:DAYLIGHT
TZOFFSETFROM:+0100
TZOFFSETTO:+0200
TZNAME:CEST
DTSTART:20250330T010000
END:DAYLIGHT
BEGIN:STANDARD
TZOFFSETFROM:+0200
TZOFFSETTO:+0100
TZNAME:CET
DTSTART:20251026T010000
END:STANDARD
END:VTIMEZONE
BEGIN:VEVENT
DTSTART;TZID=Europe/Zagreb:20250208T203000
DTEND;TZID=Europe/Zagreb:20250208T203000
DTSTAMP:20260421T024400
CREATED:20250203T081352Z
LAST-MODIFIED:20250206T130910Z
UID:11216-1739046600-1739046600@kucaarsen.hr
SUMMARY:Kako se obogatiti prije nego što baka umre
DESCRIPTION:Kako se obogatiti prije nego što baka umre (Lahn-Mah); r. Pat Boonnitipat; Tajland; 2024.\, 127′ \n \nAzijska kino senzacija – tajlandska humorna obiteljska drama Kako se obogatiti prije nego što baka umre – debitantsko je cjelovečernje ostvarenje televizijskog redatelja i snimatelja Pata Boonnitipata. Publiku diljem svijeta osvojila je šarmantnom transgeneracijskom pričom o obiteljskim karikama i nasljeđu koje dobivamo u zalog od starijih članova obitelji. Sasvim neočekivano\, film je pokorio kino blagajne i oborio nekoliko rekorda: osim uspjeha u matičnoj državi\, zaradio je epitet najgledanijeg tajlandskog filma svih vremena u nekoliko zemalja Jugoistočne Azije\, između ostalih u Singapuru\, Maleziji\, Indoneziji i Filipinima\, a ujedno je i prvi tajlandski film koji je dospio među 15 ostvarenja u užoj konkurenciji za oskarovsku nominaciju u kategoriji stranog filma. \nU središtu je radnje mladić M\, nekoć izvrstan i perspektivan učenik\, a danas neprikosnoveni lijenčina koji je studiranje zamijenio snom o lakoj zaradi streamanjem videoigara. Nakon što je njegovoj baki dijagnosticiran karcinom u terminalnoj fazi\, M se svim snagama nastoji ugurati u njezin prostor – kako stambeni\, tako i emocionalni. Njegov jedini cilj postaje pridobivanje bakine ljubavi. I nasljedstva. Dok M čini sve kako bi postao glavna meta bakine privrženosti\, ni ostali članovi obitelji ne miruju. No baka je tvrd orah\, a vrijeme istječe. \nGlavne su uloge dodijeljene debitantima na velikome platnu: tajlandska pop superzvijezda Putthipong Assaratanakul\, poznat po scenskom imenu Bilkin\, sa suptilnom slojevitošću interpretira ulogu unuka u misiji koja će se pretvoriti u najveću životnu lekciju. Zaštitno lice tajlandskih televizijskih reklama Usha Seamkhun očarava kao naizgled tvrda i distancirana baka koja stoički\, uz nesentimentalnu mirnoću\, prihvaća sva životna ugodna i\, češće\, neugodna iznenađenja. Pat Boonitipat\, koji zajedno s Thodsaponom Thiptinnakornom potpisuje i scenarij filma\, njezin je lik utemeljio na vlastitoj baki s kojom je tijekom razvoja scenarija i živio\, a njihov višemjesečni suživot potaknuo ga je da dotadašnju punokrvnu komediju pretvori u iskričavu dramediju o obiteljskim dinamikama\, intergeneracijskim dužnostima i sponama. Poprilično ciničnom naslovu usprkos\, Kako se obogatiti pije nego što baka umre šarmantna je\, gorko-slatka posveta najvećim vrijednostima – obitelji\, ljubavi i krhkosti života. \n  \nULAZNICE: Za Klub prijatelja 3\,50€ / redovna cijena 4€  \nUlaznice po redovnoj cijeni dostupne su online i na blagajni Kuće umjetnosti Arsen. \nČlanovi Kluba prijatelja popust ostvaruju na fizičkim prodajnim mjestima uz predočenje važeće članske iskaznice. \n 
URL:https://kucaarsen.hr/event/kako-se-obogatiti-prije-nego-sto-baka-umre/
LOCATION:Kuća umjetnosti Arsen\, Obala hrvatske mornarice 1\, Šibenik\, 22000
CATEGORIES:Film
ATTACH;FMTTYPE=image/jpeg:https://kucaarsen.hr/wp-content/uploads/2025/02/Kako-se-obogatiti.jpg
GEO:43.7324192;15.8902935
X-APPLE-STRUCTURED-LOCATION;VALUE=URI;X-ADDRESS=Kuća umjetnosti Arsen Obala hrvatske mornarice 1 Šibenik 22000;X-APPLE-RADIUS=500;X-TITLE=Obala hrvatske mornarice 1:geo:15.8902935,43.7324192
END:VEVENT
END:VCALENDAR