BEGIN:VCALENDAR
VERSION:2.0
PRODID:-//Kuća umjetnosti Arsen - ECPv5.5.0//NONSGML v1.0//EN
CALSCALE:GREGORIAN
METHOD:PUBLISH
X-WR-CALNAME:Kuća umjetnosti Arsen
X-ORIGINAL-URL:https://kucaarsen.hr
X-WR-CALDESC:Događaji za Kuća umjetnosti Arsen
BEGIN:VTIMEZONE
TZID:Europe/Zagreb
BEGIN:DAYLIGHT
TZOFFSETFROM:+0100
TZOFFSETTO:+0200
TZNAME:CEST
DTSTART:20250330T010000
END:DAYLIGHT
BEGIN:STANDARD
TZOFFSETFROM:+0200
TZOFFSETTO:+0100
TZNAME:CET
DTSTART:20251026T010000
END:STANDARD
END:VTIMEZONE
BEGIN:VEVENT
DTSTART;TZID=Europe/Zagreb:20251126T203000
DTEND;TZID=Europe/Zagreb:20251126T203000
DTSTAMP:20260420T040029
CREATED:20251003T130958Z
LAST-MODIFIED:20251124T114154Z
UID:11864-1764189000-1764189000@kucaarsen.hr
SUMMARY:Južina
DESCRIPTION:Južina\, r. Ante Marin; Hrvatska; 2024.; 81′ \n \nJedinstvenost splitskog identiteta – lokalnih priča\, dijalekta\, običaja i humora – okosnica je dugometražnog igranog filma Južina. Ova crna komedija smještena je u splitsku četverokatnicu u kojoj\, dok jugo trese grad\, pratimo isprepletene živote niza običnih likova koji\, igrom slučaja\, završe u ludim situacijama. Suspendirani profesor\, paranoična starica\, manipulativna majka-vjernica\, neuspješni reper i nasilni bivši dečko sudaraju se u mračnoj komediji nesporazuma\, sitnih spletki i rastućeg kaosa gdje su čak i “heroji” zlikovci u očima svojih susjeda. Kroz niz vinjeta koje se odvijaju kat po kat\, film gradi napetu i duhovitu atmosferu\, gdje jugo simbolično i doslovno raznosi stabilnost svakodnevnog života. Uz humor\, tenziju i dramu\, Južina nudi komentar na društvene pukotine i osobne lomove koji vode k apsurdu. \nRedatelj Ante Marin\, koji potpisuje i scenarij\, o svom cjelovečernjem prvijencu kaže: “Južina je žanrovski crna komedija\, što znači da ima humora\, ali nije ‘čista’ komedija već se bavi nešto ozbiljnijim temama sa humornim odmakom. Nadamo se da smo uspjeli u našoj namjeri da kroz film ispričamo niz zanimljivih pričica koje čine cjelinu koja će vas na trenutke nasmijati\, rastužiti\, iznervirati\, ali i učiniti napetim. Naslov Južina se u prvom redu odnosi na strukturu filma\, jugo se zavlači u prostore i vijuga isto onako kako se mi penjemo po zgradi. Atmosfera juga je kao i ovaj film\, pomaknuta i humorna\, nervozna i napeta\, dramatična i emocionalna te u konačnici eksplodira”. Glavne uloge u filmu tumače Snježana Sinovčić-Šiškov\, Donat Zeko i Stojan Matavulj. Južina je na  Pulskom filmskom festivalu osvojila Nagradu Kino mreže. \n  \nULAZNICE: Za Klub prijatelja 4\,20 € / redovna cijena 6 €  \nUlaznice po redovnoj cijeni dostupne su online i na blagajni Kuće umjetnosti Arsen. \nČlanovi Kluba prijatelja popust ostvaruju na fizičkim prodajnim mjestima uz predočenje važeće članske iskaznice. \n 
URL:https://kucaarsen.hr/event/juzina/
LOCATION:Kuća umjetnosti Arsen\, Obala hrvatske mornarice 1\, Šibenik\, 22000
CATEGORIES:Film
ATTACH;FMTTYPE=image/jpeg:https://kucaarsen.hr/wp-content/uploads/2025/10/juzina.jpg
GEO:43.7324192;15.8902935
X-APPLE-STRUCTURED-LOCATION;VALUE=URI;X-ADDRESS=Kuća umjetnosti Arsen Obala hrvatske mornarice 1 Šibenik 22000;X-APPLE-RADIUS=500;X-TITLE=Obala hrvatske mornarice 1:geo:15.8902935,43.7324192
END:VEVENT
END:VCALENDAR