BEGIN:VCALENDAR
VERSION:2.0
PRODID:-//Kuća umjetnosti Arsen - ECPv5.5.0//NONSGML v1.0//EN
CALSCALE:GREGORIAN
METHOD:PUBLISH
X-WR-CALNAME:Kuća umjetnosti Arsen
X-ORIGINAL-URL:https://kucaarsen.hr
X-WR-CALDESC:Događaji za Kuća umjetnosti Arsen
BEGIN:VTIMEZONE
TZID:Europe/Zagreb
BEGIN:DAYLIGHT
TZOFFSETFROM:+0100
TZOFFSETTO:+0200
TZNAME:CEST
DTSTART:20240331T010000
END:DAYLIGHT
BEGIN:STANDARD
TZOFFSETFROM:+0200
TZOFFSETTO:+0100
TZNAME:CET
DTSTART:20241027T010000
END:STANDARD
END:VTIMEZONE
BEGIN:VEVENT
DTSTART;TZID=Europe/Zagreb:20240410T183000
DTEND;TZID=Europe/Zagreb:20240410T183000
DTSTAMP:20260422T043540
CREATED:20240327T114153Z
LAST-MODIFIED:20240327T114153Z
UID:10072-1712773800-1712773800@kucaarsen.hr
SUMMARY:Jorgovani
DESCRIPTION:Jorgovani\, r. Siniša Cvetić\, Srbija\, 2024.\, 83′ (15) \nMladi redateljsko-scenaristički dvojac Siniša Cvetić i David Jakovljević\, iza kojih stoji zapažena dramedija Usekovanje\, na velika platna vraćaju se s novim ostvarenjem koji se instantno prometnuo u najveći aktualni srpski kino-hit. Jorgovani – koji naslov posuđuju iz popularne pjesme Kad zamirišu jorgovani Dine Merlina i Vesne Zmijanac – prate pozadinu stvaranja istoimene fiktivne televizijske dramske serije\, ali i paralelnu dramu koja nastane kad se snimateljske kamere ugase.  \nGlavni su junaci glumački tandem\, Katarina i Igor\, a radnja se odvija tijekom jedne večeri. Iako nerazdvojni\, Katarina i Ivan nisu se čuli niti vidjeli od završetka snimanja\, sve do večerašnje dodjele nagrada za najbolju seriju godine\, gdje će se okupiti čitava ekipa. Dok ih zasljepljuju blicevi fotoaparata i zaglušuju gromoglasni aplauzi\, u jasnom i potpunom pogledu na lice i naličje filmske i televizijske industrije Katarinin i Igorov život pretvorit će se u još veću melodramu od one koju su snimili.  \nBeskompromisno seciranje showbiz industrije inspiraciju vuče iz raznih smjerova – od stvarne sudske drame bivših supružnika Heard – Depp\, pa do antologijske komedije Zabava Blakea Edwardsa s Peterom Sellersom u glavnoj ulozi.  \nGlavne uloge u ovoj zabavnoj satiri nose Sloboda Mićalović i Ivan Bosiljčić koji su ljubavni par glumili prije petnaestak godina u popularnoj srpskoj seriji Ranjeni orao.  \n\nULAZNICE\nZa Klub prijatelja 3\,50€/ redovna cijena 4€  \nUlaznice po redovnoj cijeni dostupne su online i na blagajni Kuće umjetnosti Arsen. \nČlanovi  Kluba prijatelja popust ostvaruju na fizičkim prodajnim mjestima uz predočenje važeće članske iskaznice.
URL:https://kucaarsen.hr/event/jorgovani-2/
LOCATION:Kuća umjetnosti Arsen\, Obala hrvatske mornarice 1\, Šibenik\, 22000
CATEGORIES:Film
ATTACH;FMTTYPE=image/png:https://kucaarsen.hr/wp-content/uploads/2024/03/JORGOVANI.png
GEO:43.7324192;15.8902935
X-APPLE-STRUCTURED-LOCATION;VALUE=URI;X-ADDRESS=Kuća umjetnosti Arsen Obala hrvatske mornarice 1 Šibenik 22000;X-APPLE-RADIUS=500;X-TITLE=Obala hrvatske mornarice 1:geo:15.8902935,43.7324192
END:VEVENT
END:VCALENDAR