BEGIN:VCALENDAR
VERSION:2.0
PRODID:-//Kuća umjetnosti Arsen - ECPv5.5.0//NONSGML v1.0//EN
CALSCALE:GREGORIAN
METHOD:PUBLISH
X-WR-CALNAME:Kuća umjetnosti Arsen
X-ORIGINAL-URL:https://kucaarsen.hr
X-WR-CALDESC:Događaji za Kuća umjetnosti Arsen
BEGIN:VTIMEZONE
TZID:Europe/Zagreb
BEGIN:DAYLIGHT
TZOFFSETFROM:+0100
TZOFFSETTO:+0200
TZNAME:CEST
DTSTART:20210328T010000
END:DAYLIGHT
BEGIN:STANDARD
TZOFFSETFROM:+0200
TZOFFSETTO:+0100
TZNAME:CET
DTSTART:20211031T010000
END:STANDARD
END:VTIMEZONE
BEGIN:VEVENT
DTSTART;TZID=Europe/Zagreb:20211022T200000
DTEND;TZID=Europe/Zagreb:20211022T200000
DTSTAMP:20260424T125557
CREATED:20210928T084427Z
LAST-MODIFIED:20211007T084450Z
UID:4451-1634932800-1634932800@kucaarsen.hr
SUMMARY:Joe Pandur Trio ft. Jana Fabijanić
DESCRIPTION:Joe Pandur iskusni je glazbenik i jedan od najboljih gitarista u regiji\, koji je zahvaljujući angažmanima proputovao veliki dio svijeta i družio se s brojnim kultnim džezerima poput Ane Moure\, Boba Cranshawa\, Josea Jamesa. U zemlji je surađivao s vodećim hrvatskim izvođačima i orkestrima\, a ujedno je i dobitnik nekoliko Porina za jazz izvedbu. \nU svojim sastavima okuplja vrhunske glazbenike\, a u Šibeniku će uz njega svirati Regis Kattie na hammond orguljama te Pavle Golubić na bubnjevima. Gostujuća vokalistica je Jana Fabijanić\, na čijem se repertoaru nalaze i dvije Arsenove pjesme\, od kojih je Ali noću napisao za nju. \n  \nUlaznica: 60 kn \nFIZIČKA PRODAJNA MJESTA: \n\nCity Point\nblagajna Arsena (od 1. listopada\, u radnom vremenu od 9 do 21 sat)\n\nNa fizičkim prodajnim mjestima članovi Kluba prijatelja šibenskih tvrđava uz predočenje važeće članske iskaznice ostvaruju popust pri kupnji ulaznica – cijena ulaznice je 40 kn. \nUz ulaznicu je potrebna i COVID potvrda – detalji na na linku.
URL:https://kucaarsen.hr/event/joe-pandur-trio-ft-jana-fabijanic/
LOCATION:Kuća umjetnosti Arsen\, Obala hrvatske mornarice 1\, Šibenik\, 22000
CATEGORIES:Glazba
ATTACH;FMTTYPE=image/png:https://kucaarsen.hr/wp-content/uploads/2021/09/WEBvizual_Cover_JoePandur.png
GEO:43.7324192;15.8902935
X-APPLE-STRUCTURED-LOCATION;VALUE=URI;X-ADDRESS=Kuća umjetnosti Arsen Obala hrvatske mornarice 1 Šibenik 22000;X-APPLE-RADIUS=500;X-TITLE=Obala hrvatske mornarice 1:geo:15.8902935,43.7324192
END:VEVENT
END:VCALENDAR