BEGIN:VCALENDAR
VERSION:2.0
PRODID:-//Kuća umjetnosti Arsen - ECPv5.5.0//NONSGML v1.0//EN
CALSCALE:GREGORIAN
METHOD:PUBLISH
X-WR-CALNAME:Kuća umjetnosti Arsen
X-ORIGINAL-URL:https://kucaarsen.hr
X-WR-CALDESC:Događaji za Kuća umjetnosti Arsen
BEGIN:VTIMEZONE
TZID:Europe/Zagreb
BEGIN:DAYLIGHT
TZOFFSETFROM:+0100
TZOFFSETTO:+0200
TZNAME:CEST
DTSTART:20250330T010000
END:DAYLIGHT
BEGIN:STANDARD
TZOFFSETFROM:+0200
TZOFFSETTO:+0100
TZNAME:CET
DTSTART:20251026T010000
END:STANDARD
END:VTIMEZONE
BEGIN:VEVENT
DTSTART;TZID=Europe/Zagreb:20251029T180000
DTEND;TZID=Europe/Zagreb:20251029T180000
DTSTAMP:20260420T083833
CREATED:20251003T105819Z
LAST-MODIFIED:20251006T121606Z
UID:11857-1761760800-1761760800@kucaarsen.hr
SUMMARY:Jedan običan incident
DESCRIPTION:Jedan običan incident\, r. Jafar Panahi; Iran\, Francuska\, Luksemburg; 2025.; 105′ \n \nNakon višegodišnjeg kućnog pritvora\, na što ga je osudio iranski državni vrh\, legendarni filmaš Jafar Panahi isporučio je žestoki\, ali duhoviti osvetnički triler koji kritičku oštricu upire u opresivne režime i posljedice koje ostavljaju. Snimljen ilegalno\, Jedan običan incident razmatra kako naizgled mala i beznačajna nesreća – kvar automobila\, pokreće lavinu nezamislivih posljedica za glavne likove. Naime\, automehaničar Vahid\, bivši politički zatvorenik\, uvjeren je da da je vlasnik pokvarenog automobila zapravo njegov nekadašnji zatvorski mučitelj. \nOvjenčan Zlatnom palmom u Cannesu\, gdje je dočekan uz ovacije publike\, ovaj napeti\, crnohumorni triler osvete istražuje moralne pukotine prouzročene traumama političkog progona. Uz kombinaciju žestoke satire i neočekivanih\, razornih obrata u radnji\, redatelj je u film uključio i elemente stvarnih iskustava iranskih političkih zatvorenika\, kao i ona vlastita. Kao autor koji već desetljećima ustraje na beskompromisnoj\, hrabroj kritici političke represije\, društvene neravnopravnosti i dokidanja sloboda\, Panahi kroz Jedan običan incident postavlja odvažna pitanja o prirodi traume\, odmazde i morala. \nIranski filmski veteran postao je tek četvrti redatelj u povijesti koji se može pohvaliti trolistom glavnih nagrada najvažnijih europskih filmskih festivala: venecijanskim Zlatnim lavom (Krug\, 2000.)\, berlinskim Zlatnim medvjedom (Taxi\, 2015.)\, a sada i canneskom Zlatnom palmom. Kao dobitnik počasne nagrade Maverick Cinehill Film Festivala\, Panahi je ovog ljeta s novim filmom gostovao i u Hrvatskoj. \n  \nULAZNICE: Za Klub prijatelja 4\,20 € / redovna cijena 6 €  \nUlaznice po redovnoj cijeni dostupne su online i na blagajni Kuće umjetnosti Arsen. \nČlanovi Kluba prijatelja popust ostvaruju na fizičkim prodajnim mjestima uz predočenje važeće članske iskaznice. \n 
URL:https://kucaarsen.hr/event/jedan-obican-incident/
LOCATION:Kuća umjetnosti Arsen\, Obala hrvatske mornarice 1\, Šibenik\, 22000
CATEGORIES:Film
ATTACH;FMTTYPE=image/jpeg:https://kucaarsen.hr/wp-content/uploads/2025/10/jedan-obican-incident.jpg
GEO:43.7324192;15.8902935
X-APPLE-STRUCTURED-LOCATION;VALUE=URI;X-ADDRESS=Kuća umjetnosti Arsen Obala hrvatske mornarice 1 Šibenik 22000;X-APPLE-RADIUS=500;X-TITLE=Obala hrvatske mornarice 1:geo:15.8902935,43.7324192
END:VEVENT
END:VCALENDAR