BEGIN:VCALENDAR
VERSION:2.0
PRODID:-//Kuća umjetnosti Arsen - ECPv5.5.0//NONSGML v1.0//EN
CALSCALE:GREGORIAN
METHOD:PUBLISH
X-WR-CALNAME:Kuća umjetnosti Arsen
X-ORIGINAL-URL:https://kucaarsen.hr
X-WR-CALDESC:Događaji za Kuća umjetnosti Arsen
BEGIN:VTIMEZONE
TZID:Europe/Zagreb
BEGIN:DAYLIGHT
TZOFFSETFROM:+0100
TZOFFSETTO:+0200
TZNAME:CEST
DTSTART:20220327T010000
END:DAYLIGHT
BEGIN:STANDARD
TZOFFSETFROM:+0200
TZOFFSETTO:+0100
TZNAME:CET
DTSTART:20221030T010000
END:STANDARD
END:VTIMEZONE
BEGIN:VEVENT
DTSTART;TZID=Europe/Zagreb:20220529T210000
DTEND;TZID=Europe/Zagreb:20220529T210000
DTSTAMP:20260425T005637
CREATED:20220504T075556Z
LAST-MODIFIED:20220504T090519Z
UID:6467-1653858000-1653858000@kucaarsen.hr
SUMMARY:J.R. August
DESCRIPTION:Nikola Vranić\, poznatiji kao J.R. August\, jedan od najznačajnijih autora novije generacije\, dolazi u Kuću umjetnosti Arsen u nedjelju 29. svibnja kada će pred šibenskom publikom predstaviti novi studijski album. \nVišestruki dobitnik domaćih glazbenih nagrada u Šibeniku će nastupiti u punom sastavu\, a na pozornici će mu se priključiti bend i zbor. U Kući umjetnosti Arsen J.R. August predstavit će svoj novi\, nedavno objavljeni album “Still Waters” . \n\nRiječ je o konceptualnom albumu koji propituje vjerske i duhovne motive. Album je nastajao u doba pandemije u J.R.-ovu kućnom studiju te predstavlja njegovu intimnu priču svijeta koji se nezaustavljivo mijenja\, kako na individualnoj razini pojedinca\, tako i na globalnoj. \nIstaknuti kantautor i producent iz Zaboka doslovce je oborio s nogu domaću i regionalnu publiku s prethodnim albumom\, maestralnim “Dangerous Waters” koji je pobrao pohvale kritike i publike\, a album se našao i na listama najprodavanijih izdanja. \nJ.R. August je vlasnik Porina za album godine\, najbolji album alternativne glazbe\, te novog izvođača\, a zašto ga smatraju jednim od najznačajnijih domaćih autora svjetskog kalibra\, publika u Šibeniku moći će provjeriti 29. svibnja u 21 sat u Kući umjetnosti Arsen. \nULAZNICE: 60 kn \nDostupne online i na blagajni Arsena. \nNa blagajni članovi Kluba prijatelja šibenskih tvrđava uz predočenje važeće članske iskaznice ostvaruju popust pri kupnji ulaznica – cijena ulaznice je 40 kn.
URL:https://kucaarsen.hr/event/j-r-august/
LOCATION:Kuća umjetnosti Arsen\, Obala hrvatske mornarice 1\, Šibenik\, 22000
CATEGORIES:Glazba
ATTACH;FMTTYPE=image/jpeg:https://kucaarsen.hr/wp-content/uploads/2022/05/169-1.jpg
GEO:43.7324192;15.8902935
X-APPLE-STRUCTURED-LOCATION;VALUE=URI;X-ADDRESS=Kuća umjetnosti Arsen Obala hrvatske mornarice 1 Šibenik 22000;X-APPLE-RADIUS=500;X-TITLE=Obala hrvatske mornarice 1:geo:15.8902935,43.7324192
END:VEVENT
END:VCALENDAR