BEGIN:VCALENDAR
VERSION:2.0
PRODID:-//Kuća umjetnosti Arsen - ECPv5.5.0//NONSGML v1.0//EN
CALSCALE:GREGORIAN
METHOD:PUBLISH
X-WR-CALNAME:Kuća umjetnosti Arsen
X-ORIGINAL-URL:https://kucaarsen.hr
X-WR-CALDESC:Događaji za Kuća umjetnosti Arsen
BEGIN:VTIMEZONE
TZID:Europe/Zagreb
BEGIN:DAYLIGHT
TZOFFSETFROM:+0100
TZOFFSETTO:+0200
TZNAME:CEST
DTSTART:20240331T010000
END:DAYLIGHT
BEGIN:STANDARD
TZOFFSETFROM:+0200
TZOFFSETTO:+0100
TZNAME:CET
DTSTART:20241027T010000
END:STANDARD
END:VTIMEZONE
BEGIN:VEVENT
DTSTART;TZID=Europe/Zagreb:20240508T211500
DTEND;TZID=Europe/Zagreb:20240508T211500
DTSTAMP:20260421T233540
CREATED:20240429T095741Z
LAST-MODIFIED:20240429T095741Z
UID:10232-1715202900-1715202900@kucaarsen.hr
SUMMARY:Izazivači
DESCRIPTION:Izazivači\, r. Luca Guadagnino\, SAD\, 2024.\, 131′ (15)\n \nTalijanski redatelj s holivudskom karijerom\, Luca Guadagnino (Suspiria\, 2018.; Skrivena ljubav\, 2017.; Rasprskavanje\, 2015.; Ja sam ljubav\, 2009.)\, u svom novom ostvarenju nastavlja istraživati teme koje se pokazuju suštinskima za njegov opus – kompleksne emocije\, intimu i erotiku. Ovog puta čini to\, međutim\, na posve novom žanrovskom terenu – onom sportskom\, preciznije teniskom. \nU središtu njegove senzualne\, uzbudljive sportske drame ljubavni je trokut: nekadašnja velika nada tenisa Tashi\, njezin suprug Art te Artov najbolji prijatelj iz djetinjstva\, a sada glavni rival (i izvan teniskog terena) Patrick. Nakon kobne sportske ozljede\, Tashi se okreće treniranju i svog supruga sprema za uspjeh na Grand Slam turnirima. Nastojeći bivšeg šampiona otrgnuti iz niza poraza\, tjera ga da sudjeluje u turniru niže razine\, tzv. Challenger\, gdje će se Art morati suočiti s Patrickom. \nU duhu poetike redatelja koji je za prethodni film Sve\, i kosti (2002.) ovjenčan venecijanskim Zlatnim i Srebrnim lavom\, film dopunjuje istančana estetika\, pa je primjerice za kostimografiju angažirao ultimativnog modnog gurua današnjice\, modnog dizajnera Jonathana Andersona. Prema riječima samog Guadagnina\, film je inspiriran duhom starog Hollywooda i kanonima komedije iz zlatnog doba. Uz autore poput Prestona Sturgesa i Ernsta Lubitscha\, redatelj izdvaja i kultni klasik Neki to vole vruće Billyja Wildera kao temeljni uzor. \nProtagonistički trio čine vatreni\, poletni\, kompleksni\, ali zabavni i zavodljivi likovi\, a opijajuću kemiju među njima na veliko su platno nadasve uvjerljivo dočarali Zendaya (Dina\, 2021. i Dina: Drugi dio\, 2024.; Euforija\, 2019. – 2022.)\, Josh O’Connor (Božja zemlja\, 2017.; Kruna\, 2019./2020.) i Mike Faist (Priča sa zapadne strane\, 2021.). Redatelj servira zamamno ostvarenje koje pršti od senzualnih tenzija\, postavljajući pritom složena pitanja o ambiciji i cijeni uspjeha\, ali i impulsima koji nas pokreću. Naposljetku\, Izazivačima je konačan rezultat igre manje bitan od interesantne i nepredvidive dinamike među igračima. Game\, set\, match. \n  \n\nULAZNICE\nZa Klub prijatelja 3\,50€/ redovna cijena 4€  \nUlaznice po redovnoj cijeni dostupne su online i na blagajni Kuće umjetnosti Arsen. \nČlanovi  Kluba prijatelja popust ostvaruju na fizičkim prodajnim mjestima uz predočenje važeće članske iskaznice.
URL:https://kucaarsen.hr/event/izazivaci-2/
LOCATION:Kuća umjetnosti Arsen\, Obala hrvatske mornarice 1\, Šibenik\, 22000
CATEGORIES:Film
ATTACH;FMTTYPE=image/jpeg:https://kucaarsen.hr/wp-content/uploads/2024/04/IZAZIVACI.jpg
GEO:43.7324192;15.8902935
X-APPLE-STRUCTURED-LOCATION;VALUE=URI;X-ADDRESS=Kuća umjetnosti Arsen Obala hrvatske mornarice 1 Šibenik 22000;X-APPLE-RADIUS=500;X-TITLE=Obala hrvatske mornarice 1:geo:15.8902935,43.7324192
END:VEVENT
END:VCALENDAR