BEGIN:VCALENDAR
VERSION:2.0
PRODID:-//Kuća umjetnosti Arsen - ECPv5.5.0//NONSGML v1.0//EN
CALSCALE:GREGORIAN
METHOD:PUBLISH
X-WR-CALNAME:Kuća umjetnosti Arsen
X-ORIGINAL-URL:https://kucaarsen.hr
X-WR-CALDESC:Događaji za Kuća umjetnosti Arsen
BEGIN:VTIMEZONE
TZID:Europe/Zagreb
BEGIN:DAYLIGHT
TZOFFSETFROM:+0100
TZOFFSETTO:+0200
TZNAME:CEST
DTSTART:20240331T010000
END:DAYLIGHT
BEGIN:STANDARD
TZOFFSETFROM:+0200
TZOFFSETTO:+0100
TZNAME:CET
DTSTART:20241027T010000
END:STANDARD
END:VTIMEZONE
BEGIN:VEVENT
DTSTART;TZID=Europe/Zagreb:20240120T110000
DTEND;TZID=Europe/Zagreb:20240120T110000
DTSTAMP:20260419T181734
CREATED:20240109T081555Z
LAST-MODIFIED:20240109T081555Z
UID:9496-1705748400-1705748400@kucaarsen.hr
SUMMARY:Bubamarac: Ivica i Marica u začaranoj šumi
DESCRIPTION:Predstava ‘Ivica i Marica u začaranoj šumi‘ Dječje scene Pučkog kazališta Sinj u Kuću umjetnosti Arsen na radost svih Bubamaraca uzrasta od 3 do 10 godina\, odnosno predškolaca i djece u nižim razredima osnovne škole. \nPoznatu bajku braće Grimm mladi glumci izvode prema tekstu Save Škobića u čijoj se obradi dodaje uloga naratora koju nosi Rebeka Čović. \nU ostalim ulogama u predstavi glume: Toni Batovanja – Ivica\, Marta Malbaša – Marica\, Leonarda Masle – vilenjak\, Luka Vidić – otac\, Iris Bošković – maćeha i Aneta Vrca – vještica. \nZa režiju i scenografiju zaslužan je Željko Viculin\, a pomoćnica režisera je Petra Goreta. Za kostime je zaslužna Marija Mandac. \n  \nULAZNICE\nCijena: 3\,00 € (22\,60 kn) \nDostupne online i na blagajni Kuće umjetnosti Arsen. \n  \nO BUBAMARCU\nBubamarac\, Arsenov program za djecu i mlade na rasporedu je vikendom od 11 sati\, a na rasporedu su predstave\, dječji filmovi i ostali programi uz puno smijeha i dobre zabave.
URL:https://kucaarsen.hr/event/ivica-i-marica-u-zacaranoj-sumi/
LOCATION:Kuća umjetnosti Arsen\, Obala hrvatske mornarice 1\, Šibenik\, 22000
CATEGORIES:Djeca i mladi,Kazalište
ATTACH;FMTTYPE=image/jpeg:https://kucaarsen.hr/wp-content/uploads/2023/01/garbura-13-scaled.jpg
GEO:43.7324192;15.8902935
X-APPLE-STRUCTURED-LOCATION;VALUE=URI;X-ADDRESS=Kuća umjetnosti Arsen Obala hrvatske mornarice 1 Šibenik 22000;X-APPLE-RADIUS=500;X-TITLE=Obala hrvatske mornarice 1:geo:15.8902935,43.7324192
END:VEVENT
END:VCALENDAR