BEGIN:VCALENDAR
VERSION:2.0
PRODID:-//Kuća umjetnosti Arsen - ECPv5.5.0//NONSGML v1.0//EN
CALSCALE:GREGORIAN
METHOD:PUBLISH
X-WR-CALNAME:Kuća umjetnosti Arsen
X-ORIGINAL-URL:https://kucaarsen.hr
X-WR-CALDESC:Događaji za Kuća umjetnosti Arsen
BEGIN:VTIMEZONE
TZID:Europe/Zagreb
BEGIN:DAYLIGHT
TZOFFSETFROM:+0100
TZOFFSETTO:+0200
TZNAME:CEST
DTSTART:20250330T010000
END:DAYLIGHT
BEGIN:STANDARD
TZOFFSETFROM:+0200
TZOFFSETTO:+0100
TZNAME:CET
DTSTART:20251026T010000
END:STANDARD
END:VTIMEZONE
BEGIN:VEVENT
DTSTART;TZID=Europe/Zagreb:20250917T200000
DTEND;TZID=Europe/Zagreb:20250917T200000
DTSTAMP:20260420T134006
CREATED:20250917T072628Z
LAST-MODIFIED:20250917T072628Z
UID:11813-1758139200-1758139200@kucaarsen.hr
SUMMARY:Na domaćem terenu
DESCRIPTION:Na domaćem terenu\, r. Lidija Zelović; Nizozemska; 2024.\, 98′ \nNa domaćem terenu donosi ponekad duhovit\, često konfliktan te uvijek iskren pogled na redateljičin život\, koji zrcali trenutačnu političku klimu u Nizozemskoj i mnogim drugim zemljama diljem svijeta. Oslanjajući se na obiteljski filmski arhiv\, Zelović skače s kućnih prizora – razgovora o politici i nogometu nedjeljom s roditeljima i bratom\, sinova odrastanja\, praznika “doma” u Bosni – na politička zbivanja u Nizozemskoj\, kao što su atentati\, skandali s vladinom diskriminacijom\, rastuća društvena polarizacija\, sve veći nemir u društvu te prihvaćanje radikalne desničarske politike u centru moći. \nRazgovor s redateljicom nakon projekcije filma vode Tomislav Brlek i Ana Marija Marinov . \nULAZNICE: Slobodan ulaz \n 
URL:https://kucaarsen.hr/event/home-game/
LOCATION:Kuća umjetnosti Arsen\, Obala hrvatske mornarice 1\, Šibenik\, 22000
CATEGORIES:Film
ATTACH;FMTTYPE=image/jpeg:https://kucaarsen.hr/wp-content/uploads/2025/09/film-kua-skure.jpeg
GEO:43.7324192;15.8902935
X-APPLE-STRUCTURED-LOCATION;VALUE=URI;X-ADDRESS=Kuća umjetnosti Arsen Obala hrvatske mornarice 1 Šibenik 22000;X-APPLE-RADIUS=500;X-TITLE=Obala hrvatske mornarice 1:geo:15.8902935,43.7324192
END:VEVENT
END:VCALENDAR