BEGIN:VCALENDAR
VERSION:2.0
PRODID:-//Kuća umjetnosti Arsen - ECPv5.5.0//NONSGML v1.0//EN
CALSCALE:GREGORIAN
METHOD:PUBLISH
X-WR-CALNAME:Kuća umjetnosti Arsen
X-ORIGINAL-URL:https://kucaarsen.hr
X-WR-CALDESC:Događaji za Kuća umjetnosti Arsen
BEGIN:VTIMEZONE
TZID:Europe/Zagreb
BEGIN:DAYLIGHT
TZOFFSETFROM:+0100
TZOFFSETTO:+0200
TZNAME:CEST
DTSTART:20250330T010000
END:DAYLIGHT
BEGIN:STANDARD
TZOFFSETFROM:+0200
TZOFFSETTO:+0100
TZNAME:CET
DTSTART:20251026T010000
END:STANDARD
END:VTIMEZONE
BEGIN:VEVENT
DTSTART;TZID=Europe/Zagreb:20251206T200000
DTEND;TZID=Europe/Zagreb:20251206T200000
DTSTAMP:20260420T021533
CREATED:20251124T074302Z
LAST-MODIFIED:20251124T115654Z
UID:12154-1765051200-1765051200@kucaarsen.hr
SUMMARY:Hamnet
DESCRIPTION:Hamnet\, r. Chloé Zhao; UK\, SAD; 2025.; 125′ \n \nDirljiva reinterpretacija tragedije koja je oblikovala jedno od najvećih djela svjetske književnosti nastala je kao adaptacija svjetski hvaljenog i nagrađivanog istoimenog romana autorice Maggie O’Farrell. U režiji oskarovke Chloé Zhao\, Hamnet zakoračuje u područje povijesne fikcije i donosi novu interpretaciju osobne tragedije Williama Shakespearea – gubitka 11-godišnjeg sina Hamneta. Upravo taj gubitak\, vjeruje se\, oblikovao je jedno od najslavnijih djela svjetske književnosti\, dramu Hamlet\, napisanu ubrzo nakon tragedije. Kroz perspektivu Shakespeareove supruge Anne\, poznatije kao Agnes\, roman i film istražuju posljedice obiteljske tragedije na njihove dvije preostale kćeri\, od kojih je jedna bila Hamnetova blizanka\, na njihov brak te na samu umjetnost. \nU ulozi Williama Shakespearea nastupa jedna od ponajvećih mladih glumačkih snaga današnjice Paul Mescal\, dok Anne tumači Jessie Buckley. U ostalim ulogama pojavljuju se Jacobi Jupe\, Emily Watson i dr. \n  \nULAZNICE: Za Klub prijatelja 4\,20 € / redovna cijena 6 €  \nUlaznice po redovnoj cijeni dostupne su online i na blagajni Kuće umjetnosti Arsen. \nČlanovi Kluba prijatelja popust ostvaruju na fizičkim prodajnim mjestima uz predočenje važeće članske iskaznice. \n 
URL:https://kucaarsen.hr/event/hamnet-2/
LOCATION:Kuća umjetnosti Arsen\, Obala hrvatske mornarice 1\, Šibenik\, 22000
CATEGORIES:Film
ATTACH;FMTTYPE=image/jpeg:https://kucaarsen.hr/wp-content/uploads/2025/11/hamnet.jpg
GEO:43.7324192;15.8902935
X-APPLE-STRUCTURED-LOCATION;VALUE=URI;X-ADDRESS=Kuća umjetnosti Arsen Obala hrvatske mornarice 1 Šibenik 22000;X-APPLE-RADIUS=500;X-TITLE=Obala hrvatske mornarice 1:geo:15.8902935,43.7324192
END:VEVENT
END:VCALENDAR