BEGIN:VCALENDAR
VERSION:2.0
PRODID:-//Kuća umjetnosti Arsen - ECPv5.5.0//NONSGML v1.0//EN
CALSCALE:GREGORIAN
METHOD:PUBLISH
X-WR-CALNAME:Kuća umjetnosti Arsen
X-ORIGINAL-URL:https://kucaarsen.hr
X-WR-CALDESC:Događaji za Kuća umjetnosti Arsen
BEGIN:VTIMEZONE
TZID:Europe/Zagreb
BEGIN:DAYLIGHT
TZOFFSETFROM:+0100
TZOFFSETTO:+0200
TZNAME:CEST
DTSTART:20240331T010000
END:DAYLIGHT
BEGIN:STANDARD
TZOFFSETFROM:+0200
TZOFFSETTO:+0100
TZNAME:CET
DTSTART:20241027T010000
END:STANDARD
END:VTIMEZONE
BEGIN:VEVENT
DTSTART;TZID=Europe/Zagreb:20241214T203000
DTEND;TZID=Europe/Zagreb:20241214T203000
DTSTAMP:20260421T101247
CREATED:20241127T080942Z
LAST-MODIFIED:20241210T152550Z
UID:10924-1734208200-1734208200@kucaarsen.hr
SUMMARY:Grandpa Guru
DESCRIPTION:Grandpa Guru\, r. Silvio Mirošničenko\, Bosna i Hercegovina\, Hrvatska\, 2023.\, 91’ \n \nPortretni dokumentarac Grandpa Guru\, u režiji Silvija Mirošničenka\, eklektičnim stilom prikazuje kontinuitet rada benda Kultur Shock\, s posebnim naglaskom na zanimljiv život\, glazbu i umjetnost njihova pjevača i frontmena\, Srđana Gine Jevđevića. U filmu pratimo Ginino duhovno putovanje u potrazi za vlastitim identitetom i mjestom u svijetu\, nakon izlaska iz sarajevskog ratnog okruženja i dolaska u Seattle\, gdje je upoznao Krista Novoselica iz grupe Nirvana i Jellu Biafru iz benda Dead Kennedys koji ga potiču da se nastavi baviti glazbom. Međutim\, Gina progone pitanje pripadnosti i osjećaj rastrganosti između života u Americi\, Sarajeva i majke za koju je iznimno vezan. Ovo je priča o transformacijama jedne osobe u teškim vremenima\, bijegu na kraj svijeta i demonu koji ga prati. Film je sniman u Zagrebu\, Puli\, Rijeci\, Sarajevu te čak pet gradova u Sjedinjenim Američkim Državama: Seattleu\, New Yorku\, Philadephiji\, San Francsicu i Los Angelesu. Svjetsku je premijeru Grandpa Guru imao na ovogodišnjem ZagrebDoxu\, a međunarodnu na 50. Međunarodnom filmskom festivalu u Seattleu. Prikazan je i na Sarajevo Film Festivalu\, Liburnia Film Festivalu\, SEE Film Festivalu u Novom Sadu te na Dok’n’Ritam festivalu u Beogradu\, gdje je i osvojio posebno priznanje žirija. \n\nNa projekciju stiže filmska ekipa\, a razgovor s njima vodit će Ante Storić. \n\nULAZNICE: Za Klub prijatelja 3\,50€ / redovna cijena 4€  \nUlaznice po redovnoj cijeni dostupne su online i na blagajni Kuće umjetnosti Arsen. \nČlanovi Kluba prijatelja popust ostvaruju na fizičkim prodajnim mjestima uz predočenje važeće članske iskaznice. \n 
URL:https://kucaarsen.hr/event/grandpa-guru/
LOCATION:Kuća umjetnosti Arsen\, Obala hrvatske mornarice 1\, Šibenik\, 22000
CATEGORIES:Film
ATTACH;FMTTYPE=image/jpeg:https://kucaarsen.hr/wp-content/uploads/2024/11/Grandpa-Guru.jpg
GEO:43.7324192;15.8902935
X-APPLE-STRUCTURED-LOCATION;VALUE=URI;X-ADDRESS=Kuća umjetnosti Arsen Obala hrvatske mornarice 1 Šibenik 22000;X-APPLE-RADIUS=500;X-TITLE=Obala hrvatske mornarice 1:geo:15.8902935,43.7324192
END:VEVENT
END:VCALENDAR