BEGIN:VCALENDAR
VERSION:2.0
PRODID:-//Kuća umjetnosti Arsen - ECPv5.5.0//NONSGML v1.0//EN
CALSCALE:GREGORIAN
METHOD:PUBLISH
X-WR-CALNAME:Kuća umjetnosti Arsen
X-ORIGINAL-URL:https://kucaarsen.hr
X-WR-CALDESC:Događaji za Kuća umjetnosti Arsen
BEGIN:VTIMEZONE
TZID:Europe/Zagreb
BEGIN:DAYLIGHT
TZOFFSETFROM:+0100
TZOFFSETTO:+0200
TZNAME:CEST
DTSTART:20240331T010000
END:DAYLIGHT
BEGIN:STANDARD
TZOFFSETFROM:+0200
TZOFFSETTO:+0100
TZNAME:CET
DTSTART:20241027T010000
END:STANDARD
END:VTIMEZONE
BEGIN:VEVENT
DTSTART;TZID=Europe/Zagreb:20240522T190000
DTEND;TZID=Europe/Zagreb:20240522T190000
DTSTAMP:20260421T213109
CREATED:20240429T080022Z
LAST-MODIFIED:20240429T080022Z
UID:10238-1716404400-1716404400@kucaarsen.hr
SUMMARY:Građanski rat: Svakom carstvu dođe kraj
DESCRIPTION:Građanski rat: Svakom carstvu dođe kraj\, r. Alex Garland\, SAD\, Velika Britanija\, 2024.\, 109′ (15) \nAlex Garland britanski je pisac\, scenarist i redatelj čije će ime mnoge prvenstveno asocirati na njegov planetarno popularan roman prvijenac Žal/Plaža (The Beach\, 1996) po kojemu će poslije još jedan slavni Britanac\, Danny Boyle\, snimiti i istoimeni film s Leonardom DiCapriom i Tildom Swinton u glavnim ulogama. (Ne)mogućnost utopijskog društva kojom se Garland bavi u Plaži nagovijestit će njegove stalne umjetničke inspiracije i opsesije\, distopijska društva i izmišljene svjetove\, koje će gotovo tri desetljeća istraživati kao pisac (Teserakt\, Koma) te kao scenarist i redatelj (28 dana poslije\, Ex-Machina\, Annihilation). Takav je i njegov novi dugoočekivani film\, Građanski rat: Svakom carstvu dođe kraj\, akcijski distopijski triler koji nas vodi u SAD pogođene građanskim ratom\, a u glavnim ulogama pojavljuju se Kirsten Dunst\, Wagner Moura\, Nick Offerman i Cailee Spaeny.  \nFilm je nastao u produkciji američke kuće A24 koja se profilirala po izrazito kvalitetnim niskobudžetnim nezavisnim filmovima čiji su autori najčešće debitanti\, a među njihove najuspješnije naslove ubrajaju se filmovi poput Mjesečine (Barry Jenkins\, Oscar za najbolji film 2017)\, Lady Bird (Greta Gerwig) i prošlogodišnjeg Prošli životi (Celine Song). Vijest da su za znanstveno-fantastični Građanski rat izdvojili rekordni budžet od 50 milijuna odjeknula je daleko i postavila visoku granicu očekivanja za novi Garlandov film.  \n\nULAZNICE\nZa Klub prijatelja 3\,50€/ redovna cijena 4€  \nUlaznice po redovnoj cijeni dostupne su online i na blagajni Kuće umjetnosti Arsen. \nČlanovi  Kluba prijatelja popust ostvaruju na fizičkim prodajnim mjestima uz predočenje važeće članske iskaznice.
URL:https://kucaarsen.hr/event/gradanski-rat-svakom-carstvu-dode-kraj-2/
LOCATION:Kuća umjetnosti Arsen\, Obala hrvatske mornarice 1\, Šibenik\, 22000
CATEGORIES:Film
ATTACH;FMTTYPE=image/jpeg:https://kucaarsen.hr/wp-content/uploads/2024/03/GRADANSKI-RAT.jpg
GEO:43.7324192;15.8902935
X-APPLE-STRUCTURED-LOCATION;VALUE=URI;X-ADDRESS=Kuća umjetnosti Arsen Obala hrvatske mornarice 1 Šibenik 22000;X-APPLE-RADIUS=500;X-TITLE=Obala hrvatske mornarice 1:geo:15.8902935,43.7324192
END:VEVENT
END:VCALENDAR