BEGIN:VCALENDAR
VERSION:2.0
PRODID:-//Kuća umjetnosti Arsen - ECPv5.5.0//NONSGML v1.0//EN
CALSCALE:GREGORIAN
METHOD:PUBLISH
X-WR-CALNAME:Kuća umjetnosti Arsen
X-ORIGINAL-URL:https://kucaarsen.hr
X-WR-CALDESC:Događaji za Kuća umjetnosti Arsen
BEGIN:VTIMEZONE
TZID:Europe/Zagreb
BEGIN:DAYLIGHT
TZOFFSETFROM:+0100
TZOFFSETTO:+0200
TZNAME:CEST
DTSTART:20230326T010000
END:DAYLIGHT
BEGIN:STANDARD
TZOFFSETFROM:+0200
TZOFFSETTO:+0100
TZNAME:CET
DTSTART:20231029T010000
END:STANDARD
END:VTIMEZONE
BEGIN:VEVENT
DTSTART;TZID=Europe/Zagreb:20230208T203000
DTEND;TZID=Europe/Zagreb:20230208T203000
DTSTAMP:20260425T025356
CREATED:20230127T143418Z
LAST-MODIFIED:20230206T084401Z
UID:7755-1675888200-1675888200@kucaarsen.hr
SUMMARY:Glava velike ribe
DESCRIPTION:Glava velike ribe\, r. Arsen Oremović\, Hrvatska\, 2022.\, 80′ \nDugometražni prvijenac filmskog kritičara Arsena Oremovića Glava velike ribe urbana je socio-politička drama o tranziciji i poduzetništvu te bračnim prizorima na balkanski način\, s kojom će se domaći gledatelji lako saživjeti prateći sudbinu malog čovjeka rođenog u krivo vrijeme i na krivom mjestu\, nemoćnog da se odupre koruptivnom sistemu u kojem živi. \nU središtu radnje nalazi se taksist Andrija koji\, stisnut ustaljenom svakodnevicom i opčinjen nerealnim poduzetničkim ambicijama\, prodaje seosku kuću pokojnih roditelja i poziva svog brata\, ratnog veterana\, da se useli k njemu i njegovoj ženi u stan u Zagrebu. Glumački trolist svojim snažnim individualnostima nosi ovaj film – Nikša Butijer kao Andrija\, Neven Aljinović-Tota kao Traktor te Lana Barić kao Vesna već je potvrđen Zlatnom arenom za glavnu žensku ulogu (Barić) i Zlatnim Orionom za glavnu mušku ulogu (Butijer) na festivalu glumca u Vinkovcima. \nNakon međunarodne premijere na Cottbus Film Festivalu te uspješne festivalske turneje ovjenčane nagradama za glavnu mušku i žensku ulogu\, Glava velike ribe nastao prema istoimenom romanu Ognjena Sviličića\, stiže pred domaću publiku\, a u Art kinu Arsen uz gostovanje redatelja Arsena Oremovića i glumca Nikše Butijera na šibenskoj premijeri filma zakazanoj za 8. veljače. \nULAZNICE: Za Klub prijatelja 3€ (22\,60kn)/ redovna cijena 3\,50€ (26\,37kn) \nDostupne online\, u City Pointu i na blagajni Kuće umjetnosti Arsen. Članovi Kluba prijatelja šibenskih tvrđava uz predočenje važeće članske iskaznice pri kupnji ulaznica za film na fizičkim prodajnim mjestima ostvaruju popust. Za njih je cijena 3 eura (22\,60kn). \n\n 
URL:https://kucaarsen.hr/event/glava-velike-ribe-u-art-kinu-arsen/
LOCATION:Kuća umjetnosti Arsen\, Obala hrvatske mornarice 1\, Šibenik\, 22000
CATEGORIES:Film
ATTACH;FMTTYPE=image/jpeg:https://kucaarsen.hr/wp-content/uploads/2023/01/glava-velike-ribe.jpg
GEO:43.7324192;15.8902935
X-APPLE-STRUCTURED-LOCATION;VALUE=URI;X-ADDRESS=Kuća umjetnosti Arsen Obala hrvatske mornarice 1 Šibenik 22000;X-APPLE-RADIUS=500;X-TITLE=Obala hrvatske mornarice 1:geo:15.8902935,43.7324192
END:VEVENT
END:VCALENDAR