BEGIN:VCALENDAR
VERSION:2.0
PRODID:-//Kuća umjetnosti Arsen - ECPv5.5.0//NONSGML v1.0//EN
CALSCALE:GREGORIAN
METHOD:PUBLISH
X-WR-CALNAME:Kuća umjetnosti Arsen
X-ORIGINAL-URL:https://kucaarsen.hr
X-WR-CALDESC:Događaji za Kuća umjetnosti Arsen
BEGIN:VTIMEZONE
TZID:Europe/Zagreb
BEGIN:DAYLIGHT
TZOFFSETFROM:+0100
TZOFFSETTO:+0200
TZNAME:CEST
DTSTART:20230326T010000
END:DAYLIGHT
BEGIN:STANDARD
TZOFFSETFROM:+0200
TZOFFSETTO:+0100
TZNAME:CET
DTSTART:20231029T010000
END:STANDARD
END:VTIMEZONE
BEGIN:VEVENT
DTSTART;TZID=Europe/Zagreb:20230218T180000
DTEND;TZID=Europe/Zagreb:20230218T180000
DTSTAMP:20260425T011433
CREATED:20230130T122233Z
LAST-MODIFIED:20230206T090108Z
UID:7806-1676743200-1676743200@kucaarsen.hr
SUMMARY:Glava velike ribe
DESCRIPTION:Redatelj Arsen Oremović\, Hrvatska\, 2022.\, 80′ \nDugometražni prvijenac filmskog kritičara Arsena Oremovića urbana je socio-politička drama o tranziciji i poduzetništvu te bračnim prizorima na balkanski način\, s kojom će se domaći gledatelji lako saživjeti prateći sudbinu malog čovjeka rođenog u krivo vrijeme i na krivom mjestu\, nemoćnog da se odupre koruptivnom sistemu u kojem živi. \nU središtu radnje nalazi se taksist Andrija koji\, stisnut ustaljenom svakodnevicom i opčinjen nerealnim poduzetničkim ambicijama\, prodaje seosku kuću pokojnih roditelja i poziva svog brata\, ratnog veterana\, da se useli k njemu i njegovoj ženi u stan u Zagrebu. Glumački trolist svojim snažnim individualnostima nosi ovaj film – Nikša Butijer kao Andrija\, Neven Aljinović-Tota kao Traktor te Lana Barić kao Vesna već je potvrđen Zlatnom arenom za glavnu žensku ulogu (Barić) i Zlatnim Orionom za glavnu mušku ulogu (Butijer) na festivalu glumca u Vinkovcima.  Film je nastao prema istoimenom romanu Ognjena Sviličića. \nULAZNICE: 3\,50 €  (26\,3 kn) \nDostupne online\, u City Pointu i na blagajni Kuće umjetnosti Arsen. \nČlanovi Kluba prijatelja šibenskih tvrđava uz predočenje važeće članske iskaznice pri kupnji ulaznica za film na fizičkim prodajnim mjestima ostvaruju popust. Za njih je cijena 3 eura (22\,60kn).
URL:https://kucaarsen.hr/event/glava-velike-ribe-2/
LOCATION:Kuća umjetnosti Arsen\, Obala hrvatske mornarice 1\, Šibenik\, 22000
CATEGORIES:Film
ATTACH;FMTTYPE=image/jpeg:https://kucaarsen.hr/wp-content/uploads/2023/01/glava-velike-ribe.jpg
GEO:43.7324192;15.8902935
X-APPLE-STRUCTURED-LOCATION;VALUE=URI;X-ADDRESS=Kuća umjetnosti Arsen Obala hrvatske mornarice 1 Šibenik 22000;X-APPLE-RADIUS=500;X-TITLE=Obala hrvatske mornarice 1:geo:15.8902935,43.7324192
END:VEVENT
END:VCALENDAR