BEGIN:VCALENDAR
VERSION:2.0
PRODID:-//Kuća umjetnosti Arsen - ECPv5.5.0//NONSGML v1.0//EN
CALSCALE:GREGORIAN
METHOD:PUBLISH
X-WR-CALNAME:Kuća umjetnosti Arsen
X-ORIGINAL-URL:https://kucaarsen.hr
X-WR-CALDESC:Događaji za Kuća umjetnosti Arsen
BEGIN:VTIMEZONE
TZID:Europe/Zagreb
BEGIN:DAYLIGHT
TZOFFSETFROM:+0100
TZOFFSETTO:+0200
TZNAME:CEST
DTSTART:20240331T010000
END:DAYLIGHT
BEGIN:STANDARD
TZOFFSETFROM:+0200
TZOFFSETTO:+0100
TZNAME:CET
DTSTART:20241027T010000
END:STANDARD
END:VTIMEZONE
BEGIN:VEVENT
DTSTART;TZID=Europe/Zagreb:20240526T110000
DTEND;TZID=Europe/Zagreb:20240526T110000
DTSTAMP:20260422T020824
CREATED:20240429T084415Z
LAST-MODIFIED:20240429T084415Z
UID:10252-1716721200-1716721200@kucaarsen.hr
SUMMARY:Garfield
DESCRIPTION:Garfield\, r. Mark Dindal\, SAD\, Velika Britanija\, 2024.\, 100’\, animirani\, sinkr. \n  \nNajsimpatičniji mrgud\, najdraži ljenivac i najveći obožavatelj lazanja na svijetu – kultni Garfield – vraća se u celuloidnom obliku!  \nOmiljene animirane likove koje je prije gotovo pola stoljeća u formi strip-serijala oživio legendarni karikaturist Jim Davis čekaju uzbudljive avanture na velikom platnu: nakon što upozna svog oca\, ofucanog uličnog mačka Vica\, tvrdokorni kućni mačak morat će se upustiti u žestoku pustolovinu u vanjskome svijetu\, a društvo u ovoj epskoj ekspediciji Garfieldu će praviti vječno vjerni prijatelj (i smetalo)\, psić Odie.  \nU sinkroniziranoj verziji filma slavnom narančastom mačku glas je posudio Filip Riđički\, Vicu je glas dao Ljubomir Kerekeš\, a tu su i likovi s glasovima Ane Begić\, Slavka Sobina\, Jadranke Đokić i drugih. \n  \n\n\nULAZNICE: 3\,00 € (22\,50 kn) \nDostupne online i na blagajni Kuće umjetnosti Arsen. \n\nBubamarac\, program za djecu i mlade Kuće umjetnosti Arsen jedini je kontinuirani program za tu publiku u Šibeniku i sačinjava četvrtinu godišnjeg programa Arsena. Nije trebalo dugo da se upravo on prometne u najuspješniju programsku liniju Arsena. Subotnje predstave za najmlađu publiku (3+) dočekuju se s oduševljenjem\, a filmski naslovi za malo starije filmofile (7+) našli su svoju publiku. \nZa male se Bubamarce organiziraju i radionice iz područja filma\, slikarstva\, arhitekture i stvaralaštva općenito kako bi se od najranije dobi mladima prezentirale i približile sve vrste umjetnosti (vizualne i nevizualne / materijalne i nematerijalne). \nUključivanjem\, poticanjem i razvojem interesa djece za kulturne vrijednosti i razvijamo novu kulturnu publiku kojoj će kultura (u bilo kojem svom obliku) biti neophodan dio života.
URL:https://kucaarsen.hr/event/garfield/
LOCATION:Kuća umjetnosti Arsen\, Obala hrvatske mornarice 1\, Šibenik\, 22000
CATEGORIES:Djeca i mladi,Film
ATTACH;FMTTYPE=image/jpeg:https://kucaarsen.hr/wp-content/uploads/2024/04/GARFIELD.jpg
GEO:43.7324192;15.8902935
X-APPLE-STRUCTURED-LOCATION;VALUE=URI;X-ADDRESS=Kuća umjetnosti Arsen Obala hrvatske mornarice 1 Šibenik 22000;X-APPLE-RADIUS=500;X-TITLE=Obala hrvatske mornarice 1:geo:15.8902935,43.7324192
END:VEVENT
END:VCALENDAR