BEGIN:VCALENDAR
VERSION:2.0
PRODID:-//Kuća umjetnosti Arsen - ECPv5.5.0//NONSGML v1.0//EN
CALSCALE:GREGORIAN
METHOD:PUBLISH
X-WR-CALNAME:Kuća umjetnosti Arsen
X-ORIGINAL-URL:https://kucaarsen.hr
X-WR-CALDESC:Događaji za Kuća umjetnosti Arsen
BEGIN:VTIMEZONE
TZID:Europe/Zagreb
BEGIN:DAYLIGHT
TZOFFSETFROM:+0100
TZOFFSETTO:+0200
TZNAME:CEST
DTSTART:20230326T010000
END:DAYLIGHT
BEGIN:STANDARD
TZOFFSETFROM:+0200
TZOFFSETTO:+0100
TZNAME:CET
DTSTART:20231029T010000
END:STANDARD
END:VTIMEZONE
BEGIN:VEVENT
DTSTART;TZID=Europe/Zagreb:20230208T180000
DTEND;TZID=Europe/Zagreb:20230208T180000
DTSTAMP:20260423T100600
CREATED:20230127T135159Z
LAST-MODIFIED:20230206T084012Z
UID:7752-1675879200-1675879200@kucaarsen.hr
SUMMARY:Garbura
DESCRIPTION:Garbura\, r. Josip Žuvan\, Hrvatska\, Srbija\, 2022.\, 113′\, (12) \nGarbura\, film o prijateljstvu dvojice dječaka iz međusobno posvađanih obitelji cjelovečernji je prvijenac mladog redatelja Josipa Žuvana\, a pred publiku šibenskog Art kina Arsen stiže nakon premijere na prestižnom festivalu u San Sebastiánu te Zagreb Film Festivalu. \nRadnja prati nerazdvojne dvanaestogodišnjake Nikolu i Antonija koji žive u susjednim kućama. Njihove su obitelji zavađene\, no dječaci se unatoč tome druže i slobodno vrijeme uoči blagdana provode paleći karabite\, snimajući svoje eskapade snimaju i objavljujući ih na YouTubeu ne bi li postigli što veći broj pregleda. No svađa između obitelji uskoro će eskalirati. Glumačku ekipu Garbure\, “tihe eksplozije obiteljskih tenzija” (Marko Njegić\, Slobodna Dalmacija) predvode mladi glumci Mauro Ercegović Gracin i Franko Floigl. Ostale uloge tumače Ivana Roščić\, Marija Škaričić\, Ljubomir Bandović\, Asja Jovanović i Zdenko Jelčić. \nULAZNICE: 3\,50 €  (26\,3 kn) \nDostupne online\, u City Pointu i na blagajni Kuće umjetnosti Arsen. \nČlanovi Kluba prijatelja šibenskih tvrđava uz predočenje važeće članske iskaznice pri kupnji ulaznica za film na fizičkim prodajnim mjestima ostvaruju popust. Za njih je cijena 3 eura (22\,60kn). \n\n 
URL:https://kucaarsen.hr/event/garbura-4/
LOCATION:Kuća umjetnosti Arsen\, Obala hrvatske mornarice 1\, Šibenik\, 22000
CATEGORIES:Film
ATTACH;FMTTYPE=image/jpeg:https://kucaarsen.hr/wp-content/uploads/2022/12/garbura.jpg
GEO:43.7324192;15.8902935
X-APPLE-STRUCTURED-LOCATION;VALUE=URI;X-ADDRESS=Kuća umjetnosti Arsen Obala hrvatske mornarice 1 Šibenik 22000;X-APPLE-RADIUS=500;X-TITLE=Obala hrvatske mornarice 1:geo:15.8902935,43.7324192
END:VEVENT
END:VCALENDAR