BEGIN:VCALENDAR
VERSION:2.0
PRODID:-//Kuća umjetnosti Arsen - ECPv5.5.0//NONSGML v1.0//EN
CALSCALE:GREGORIAN
METHOD:PUBLISH
X-WR-CALNAME:Kuća umjetnosti Arsen
X-ORIGINAL-URL:https://kucaarsen.hr
X-WR-CALDESC:Događaji za Kuća umjetnosti Arsen
BEGIN:VTIMEZONE
TZID:Europe/Zagreb
BEGIN:DAYLIGHT
TZOFFSETFROM:+0100
TZOFFSETTO:+0200
TZNAME:CEST
DTSTART:20210328T010000
END:DAYLIGHT
BEGIN:STANDARD
TZOFFSETFROM:+0200
TZOFFSETTO:+0100
TZNAME:CET
DTSTART:20211031T010000
END:STANDARD
END:VTIMEZONE
BEGIN:VEVENT
DTSTART;TZID=Europe/Zagreb:20210603T203000
DTEND;TZID=Europe/Zagreb:20210603T203000
DTSTAMP:20260424T093039
CREATED:20210522T144339Z
LAST-MODIFIED:20210601T094250Z
UID:4037-1622752200-1622752200@kucaarsen.hr
SUMMARY:Gabi Novak / Matija Dedić / Marko Ramljak
DESCRIPTION:Mala sredina\, sa svojim utjecajem\, tradicijom\, u nama stvori onu rudaču\, onaj uran iz kojeg dalje isijava energija. – rekao je jednom prilikom Arsen\, a mogli bismo zaključiti da je ta ista energija uvijek isijavala i iz Gabi i Matije kojima je Šibenik\, preko Arsena\, ostao kao vječna prtljaga. Na dan kada njegova kuća postaje naša kuća\, mjesto susreta starog i nekog novog Šibenika\, ne postoji taj koji bi Kuću umjetnosti Arsen mogao blagosloviti\, gotovo kao brod prije porinuća\, a još mu dati i toliko intimizma\, simbolike i snage kao što to može familija – njegova Gabi i Matija\, jednako briljantni glazbenici o čijim talentima\, kao na kraju ni o Arsenovom\, ne treba govoriti. Prvoj koncertnoj večeri Kuće umjetnosti Arsen pridružit će se na violini još jedan priznati i poznati virtuoz i šibenski talent\, Marko Ramljak.
URL:https://kucaarsen.hr/event/gabi-novak-matija-dedic-marko-ramljak/
LOCATION:Kuća umjetnosti Arsen\, Obala hrvatske mornarice 1\, Šibenik\, 22000
CATEGORIES:Glazba
ATTACH;FMTTYPE=image/jpeg:https://kucaarsen.hr/wp-content/uploads/2021/05/20210603-arsen.jpg
GEO:43.7324192;15.8902935
X-APPLE-STRUCTURED-LOCATION;VALUE=URI;X-ADDRESS=Kuća umjetnosti Arsen Obala hrvatske mornarice 1 Šibenik 22000;X-APPLE-RADIUS=500;X-TITLE=Obala hrvatske mornarice 1:geo:15.8902935,43.7324192
END:VEVENT
END:VCALENDAR