BEGIN:VCALENDAR
VERSION:2.0
PRODID:-//Kuća umjetnosti Arsen - ECPv5.5.0//NONSGML v1.0//EN
CALSCALE:GREGORIAN
METHOD:PUBLISH
X-WR-CALNAME:Kuća umjetnosti Arsen
X-ORIGINAL-URL:https://kucaarsen.hr
X-WR-CALDESC:Događaji za Kuća umjetnosti Arsen
BEGIN:VTIMEZONE
TZID:Europe/Zagreb
BEGIN:DAYLIGHT
TZOFFSETFROM:+0100
TZOFFSETTO:+0200
TZNAME:CEST
DTSTART:20250330T010000
END:DAYLIGHT
BEGIN:STANDARD
TZOFFSETFROM:+0200
TZOFFSETTO:+0100
TZNAME:CET
DTSTART:20251026T010000
END:STANDARD
END:VTIMEZONE
BEGIN:VEVENT
DTSTART;TZID=Europe/Zagreb:20250305T203000
DTEND;TZID=Europe/Zagreb:20250305T203000
DTSTAMP:20260420T234339
CREATED:20250213T130514Z
LAST-MODIFIED:20250303T090843Z
UID:11309-1741206600-1741206600@kucaarsen.hr
SUMMARY:Fiume o morte!
DESCRIPTION:Fiume o morte!\, r. Igor Bezinović; Hrvatska\, Italija\, Slovenija; 2025.; 112′ \n \nOkićen čak dvjema nagradama na Međunarodnom filmskom festivalu u Rotterdamu (IFFR)\, dokumentarno-igrani film Fiume o morte! redatelja Igora Bezinovića instantno se upisao u povijest naše kinematografije kao prvi hrvatski film koji je osvojio glavnu nagradu tog uglednog filmskog festivala. \nOvo originalno ostvarenje kroz inovativan autorski pristup govori o fascinantnoj i široj javnosti nepoznatoj povijesnoj epizodi. U filmu građani grada Rijeke\, kojeg Talijani zovu Fiume\, prepričavaju\, rekonstruiraju i reinterpretiraju bizarnu priču o 16-mjesečnoj okupaciji njihovog grada godine 1919. od strane talijanskog pjesnika\, dandyja i propovjednika rata\, Gabrielea D’Annunzija. \nUz pregršt arhivskih materijala\, konzultiranje s povjesničarima iz Italije i Hrvatske te glumačke angažmane Bezinovićevih sugrađana\, u filmu se na izrazito kreativan\, ludički način propituju posljedice okupacije grada na grad i njegove stanovnike. Ipak\, “Fiume o morte! mnogo nam govori i o banalnosti današnjeg zla” (Milena Zajović\, Večernji list). Nedavna rasprodana dvostruka riječka premijera\, kojom je službeno otvorena distribucija filma u hrvatskim kinima\, ocijenjena je kao filmski događaj godine. \nIgor Bezinović\, čija filmografija okuplja niz nagrađivanih kratkometražnih naslova\, dugometražni dokumentarac Blokada (2012.) te cjelovečernji igrani film Kratki izlet (2017.) ovjenčan Velikom zlatnom Arenom\, rad na Fiume o morte! započeo je još prije deset godina\, a od početka snimanja do finalizacije filma proteklo je četiri godine. “Naučio sam Rijeku gledati novim očima. Mislim da je to bio i jedan od glavnih razloga zbog kojih sam uopće i odlučio snimiti ovaj film. Cilj mi je bio da ljudi\, bilo Riječani\, bilo turisti\, u šetnji gradom krenu uočavati stvari o kojima dotad nikada nisu razmišljali”\, ustvrdio je u nedavnom intervjuu o filmu. \nSvjetsku premijeru u Rotterdamu Fiume o morte! proslavio je uz glavnu nagradu glavnog natjecateljskog programa Tiger koji slavi inovativne i avanturističke filmske dosege te nagradu FIPRESCI koju dodjeljuje međunarodno udruženje filmskih kritičara. O filmu su se raspisali i vodeći svjetski filmski mediji\, poput The Hollywood Reportera koji film naziva “osebujnom lekcijom o europskoj povijesti” i Varietyja koji ga ocjenjuje kao “razigran i dosjetljiv\, ali i kritički angažiran hibridni dokumentarac”. \n  \nNa projekciji u Art kinu Arsen gostovat će redatelj i scenarist filma\, Igor Bezinović\, uz razgovor nakon projekcije. Šibenska premijera u Art kinu Arsen bit će prilika i za širenje diskusiju o tom povijesnom periodu i na primjeru Šibenika\, osobito zato što je\, prema riječima redatelja\, okupacija Rijeke u D’Annunzijevoj glavi bila samo stepenica za osvajanje cijelog istočnog Jadrana\, što je realizirano tek 20 godina kasnije kroz suradnju Pavelića i Mussolinija u Drugom svjetskom ratu. \nUz pomoć povjesničara Branimira Renju\, stručnjaka za ovaj povijesni period i jednog od pokretača pub kviza u Azimutu\, razgovor će nastojati rasvijetliti sljedeća pitanja: koliko je D’Annunzio imao utjecaja na šibenske talijanaše i autonomaše u periodu između dva svjetska rata? Kako su izgledali politički odnosi u gradu u kojem raste nacionalna svijest većinskog slavenskog stanovništva? Kako je izgledala talijanska okupacija Šibenika netom nakon završetka Prvog svjetskog rata? Kako su na grad utjecala velika predratna politička previranja dok još nije bilo jasno hoće li Šibenik pripasti Italiji ili Kraljevini SHS\, ali i je li D’Annunzio planirao pohod i na Šibenik? Razgovor će moderirati koordinatorica filmskog programa Kuće umjetnosti Arsen\, Jelena Svirčić. \n  \nULAZNICE: Za Klub prijatelja 3 € / redovna cijena 4 €  \nUlaznice po redovnoj cijeni dostupne su online i na blagajni Kuće umjetnosti Arsen. \nČlanovi Kluba prijatelja popust ostvaruju na fizičkim prodajnim mjestima uz predočenje važeće članske iskaznice. \n 
URL:https://kucaarsen.hr/event/fiume-o-morte/
LOCATION:Kuća umjetnosti Arsen\, Obala hrvatske mornarice 1\, Šibenik\, 22000
CATEGORIES:Film
ATTACH;FMTTYPE=image/png:https://kucaarsen.hr/wp-content/uploads/2025/02/Fiume-o-morte.png
GEO:43.7324192;15.8902935
X-APPLE-STRUCTURED-LOCATION;VALUE=URI;X-ADDRESS=Kuća umjetnosti Arsen Obala hrvatske mornarice 1 Šibenik 22000;X-APPLE-RADIUS=500;X-TITLE=Obala hrvatske mornarice 1:geo:15.8902935,43.7324192
END:VEVENT
END:VCALENDAR