BEGIN:VCALENDAR
VERSION:2.0
PRODID:-//Kuća umjetnosti Arsen - ECPv5.5.0//NONSGML v1.0//EN
CALSCALE:GREGORIAN
METHOD:PUBLISH
X-WR-CALNAME:Kuća umjetnosti Arsen
X-ORIGINAL-URL:https://kucaarsen.hr
X-WR-CALDESC:Događaji za Kuća umjetnosti Arsen
BEGIN:VTIMEZONE
TZID:Europe/Zagreb
BEGIN:DAYLIGHT
TZOFFSETFROM:+0100
TZOFFSETTO:+0200
TZNAME:CEST
DTSTART:20250330T010000
END:DAYLIGHT
BEGIN:STANDARD
TZOFFSETFROM:+0200
TZOFFSETTO:+0100
TZNAME:CET
DTSTART:20251026T010000
END:STANDARD
END:VTIMEZONE
BEGIN:VEVENT
DTSTART;TZID=Europe/Zagreb:20250125T110000
DTEND;TZID=Europe/Zagreb:20250125T110000
DTSTAMP:20260424T225722
CREATED:20241218T141403Z
LAST-MODIFIED:20241218T141403Z
UID:11069-1737802800-1737802800@kucaarsen.hr
SUMMARY:Eiffelov toranj ili kako se gradi karakter
DESCRIPTION:Autorica teksta: Divna Stojanov \nRežija i dramaturgija: Ivana Peroš \nGlumi: Romina Vitasović Lučić \nScenografija: Breza Žižović \nAutorica glazbe i songova: Mirjam Vukašin \nGlazbena produkcija: Gregor Tomljenović \nDizajn plakata: Maja Glušić \n  \nO PREDSTAVI: \nOva predstava za djecu na zabavan i poučan način prikazuje potragu za karakterom. \nPredstava govori o razvitku osobnosti\, važnosti suočavanja sa osobnim strahovima i didaktički prikazuje načine prelaženja preko prepreka i time osnažuje djecu i pruža im praktične alate za svakodnevne izazove u životu. \nIstovremeno\, u stvarnom svijetu i kroz metaforu\, prati junakinju koja «gradi» svoj toranj\, Eiffelov toranj. \nJer često čujemo da se karakter «gradi». A što bi to točno značilo? Uzmu se cigle ili kameni blokovi pa sazidamo karakter? Ili je on unutarnje stanje naše osobnosti koju stječemo s vremenom\, iskustvima\, učenjem\, otkrivanjem svijeta i sebe samih? \nTo se u našoj predstavi pita i djevojčica pa u nedoumici kreće u pustolovinu zvanu «kako izgraditi karakter». \nU vlastitom svijetu mašte ona odlučuje pronaći svoje osobine i potrebne vještine. Na usponu prema «vrhu» nailazi na prepreke\, mora se suočiti sa strahom\, ali pritom ima i malu pomoć. Bori se s odustajanjem i postepeno otkriva svoje odlike; hrabrost\, upornost\, nesebičnost. I volju\, pokretačku snagu koja joj ne dozvoljava da olako odustane. \nUzrast: +5 \nTrajanje predstave: 35 min.
URL:https://kucaarsen.hr/event/eiffelov-toranj-ili-kako-se-gradi-karakter/
LOCATION:Kuća umjetnosti Arsen\, Obala hrvatske mornarice 1\, Šibenik\, 22000
CATEGORIES:Djeca i mladi
ATTACH;FMTTYPE=image/jpeg:https://kucaarsen.hr/wp-content/uploads/2024/12/eiffelov.jpg
GEO:43.7324192;15.8902935
X-APPLE-STRUCTURED-LOCATION;VALUE=URI;X-ADDRESS=Kuća umjetnosti Arsen Obala hrvatske mornarice 1 Šibenik 22000;X-APPLE-RADIUS=500;X-TITLE=Obala hrvatske mornarice 1:geo:15.8902935,43.7324192
END:VEVENT
END:VCALENDAR