BEGIN:VCALENDAR
VERSION:2.0
PRODID:-//Kuća umjetnosti Arsen - ECPv5.5.0//NONSGML v1.0//EN
CALSCALE:GREGORIAN
METHOD:PUBLISH
X-WR-CALNAME:Kuća umjetnosti Arsen
X-ORIGINAL-URL:https://kucaarsen.hr
X-WR-CALDESC:Događaji za Kuća umjetnosti Arsen
BEGIN:VTIMEZONE
TZID:Europe/Zagreb
BEGIN:DAYLIGHT
TZOFFSETFROM:+0100
TZOFFSETTO:+0200
TZNAME:CEST
DTSTART:20260329T010000
END:DAYLIGHT
BEGIN:STANDARD
TZOFFSETFROM:+0200
TZOFFSETTO:+0100
TZNAME:CET
DTSTART:20261025T010000
END:STANDARD
END:VTIMEZONE
BEGIN:VEVENT
DTSTART;TZID=Europe/Zagreb:20260515T210000
DTEND;TZID=Europe/Zagreb:20260515T210000
DTSTAMP:20260424T090148
CREATED:20260305T095504Z
LAST-MODIFIED:20260305T095504Z
UID:12791-1778878800-1778878800@kucaarsen.hr
SUMMARY:Duo Tudor & Režić
DESCRIPTION:Splićani Gordan Tudor i Mislav Režić pripadaju među vodeće hrvatske glazbenike svoje generacije\, a kao duo djeluju od 2020. godine.  Ciclo Continuo prvo je njihovo zajedničko skladateljsko djelo\, a radi se o interdisciplinarnom projektu koji uključuje i video umjetnost. \n  \nPolazišna točka projekta je bogata kolekcija snimki na Super 8 mm filmu\, koju je Gordanov otac\, Mario Tudor\, godinama stvarao. Od toga je ciparsko-grčki umjetnik Marios Fournaris napravio 55-minutni film koji se bavi emocionalnim i psihološkim slojevima pamćenja i njegovim utjecajem na naš identitet. \nOriginalna glazba kreirana je kao svojevrsni soundtrack koji se izvodi uživo\, u dijalogu s filmom\, a osim iz klasične\, crpi inspiraciju i iz drugih glazbenih žanrova\, poput pop\, prog-rock\, elektronske i narodne glazbe. \nGordan Tudor i Mislav Režić Individualno su\, u raznim kombinacijama\, nastupili na prestižnim festivalima i dvoranama širom svijeta. Iako zajednički djeluju tek kraće vrijeme\, ovaj duo održao je niz uspješnih koncerata u Hrvatskoj i inozemstvu\, a publika i kritika ih dočekuju s jednakim entuzijazmom. \nNjihova kombinacija saksofona\, klasične i električne gitare\, uz dodatak elektronike\, otvara potpuno nove zvučne prostore – daleko izvan granica klasične tradicije. Njihove interpretacije spoj su vrhunske virtuoznosti\, istraživačkog duha i izražajne snage. \nLjubitelje jazza\, ali i video umjetnosti očekuje stoga filmska projekcija uz glazbu uživo\, Ciclo continuo traje 55 minuta i podijeljen je u pet narativnih cjelina koje istražuju različite aspekte ljudskog iskustva: ljubav\, odnos s prirodom\, djetinjstvo\, stvaranje i razaranje. \n  \nULAZNICE \nZa Klub prijatelja 7€ / redovna cijena 10€ \nUlaznice po redovnoj cijeni dostupne su online i na blagajni Kuće umjetnosti Arsen. \nČlanovi Kluba prijatelja ostvaruju 30% popusta na blagajni uz predočenje važeće članske iskaznice.
URL:https://kucaarsen.hr/event/duo-tudor-rezic/
LOCATION:Kuća umjetnosti Arsen\, Obala hrvatske mornarice 1\, Šibenik\, 22000
CATEGORIES:Glazba
ATTACH;FMTTYPE=image/jpeg:https://kucaarsen.hr/wp-content/uploads/2026/03/arsen_jazz_1920_1080_duo_tudor__rezic.jpg
GEO:43.7324192;15.8902935
X-APPLE-STRUCTURED-LOCATION;VALUE=URI;X-ADDRESS=Kuća umjetnosti Arsen Obala hrvatske mornarice 1 Šibenik 22000;X-APPLE-RADIUS=500;X-TITLE=Obala hrvatske mornarice 1:geo:15.8902935,43.7324192
END:VEVENT
END:VCALENDAR