BEGIN:VCALENDAR
VERSION:2.0
PRODID:-//Kuća umjetnosti Arsen - ECPv5.5.0//NONSGML v1.0//EN
CALSCALE:GREGORIAN
METHOD:PUBLISH
X-WR-CALNAME:Kuća umjetnosti Arsen
X-ORIGINAL-URL:https://kucaarsen.hr
X-WR-CALDESC:Događaji za Kuća umjetnosti Arsen
BEGIN:VTIMEZONE
TZID:Europe/Zagreb
BEGIN:DAYLIGHT
TZOFFSETFROM:+0100
TZOFFSETTO:+0200
TZNAME:CEST
DTSTART:20240331T010000
END:DAYLIGHT
BEGIN:STANDARD
TZOFFSETFROM:+0200
TZOFFSETTO:+0100
TZNAME:CET
DTSTART:20241027T010000
END:STANDARD
END:VTIMEZONE
BEGIN:VEVENT
DTSTART;TZID=Europe/Zagreb:20240417T183000
DTEND;TZID=Europe/Zagreb:20240417T183000
DTSTAMP:20260422T014927
CREATED:20240327T120813Z
LAST-MODIFIED:20240327T120813Z
UID:10086-1713378600-1713378600@kucaarsen.hr
SUMMARY:Dječak i čaplja
DESCRIPTION:Dječak i čaplja\, r. Hayao Miyazaki\, Japan\, 2023.\, 124′\, animirani\, titl \n  \nNagrađeno Oscarom za najbolji cjelovečernji animirani film\, najnovije ostvarenje živućeg klasika animacije\, Japanca Hayaoa Miyazakija (Moj susjed Totoro\, 1988.\, Princeza Mononoke\, 1997.\, Avanture male Chihiro\, 2001.\, Pokretni dvorac\, 2004.)\, dosad je i njegovo najosobnije. Naime\, film o dječaku koji se pokušava nositi sa smrću majke inspiriran je događajima iz djetinjstva samoga autora\, a ova očaravajuća filmska elegija već je osvojila neke od najprestižnijih filmskih nagrada – Zlatni globus i nagradu BAFTA.  \nRadnja je smještena u doba Drugog svjetskog rata\, a prati dječaka Mahita koji\, nakon što u ratu izgubi majku\, iz Tokija seli na obiteljsko imanje na selu. Ondje ga niz misterioznih događaja vodi do osamljene drevne kule u kojoj živi nestašna siva čaplja. Kada Mahitova nova maćeha nestane\, on prati sivu čaplju i ulazi u fantastičan svijet koji dijele živi i mrtvi. Na epskom putovanju s čapljom kao vodičem\, Mahito će otkriti tajne ovog svijeta i istinu o sebi.  \nDječak i čaplja nesumnjivo ulazi u povijest svjetske animacije gdje će ostati zapamćen kao prvi animirani film koji je otvorio ugledni Filmski festival u Torontu (TIFF)\, a trenutno drži i prvo mjesto na ljestvici najskupljih japanskih filmova svih vremena.  \n\nULAZNICE\nZa Klub prijatelja 3\,50€/ redovna cijena 4€  \nUlaznice po redovnoj cijeni dostupne su online i na blagajni Kuće umjetnosti Arsen. \nČlanovi  Kluba prijatelja popust ostvaruju na fizičkim prodajnim mjestima uz predočenje važeće članske iskaznice.
URL:https://kucaarsen.hr/event/djecak-i-caplja-2/
LOCATION:Kuća umjetnosti Arsen\, Obala hrvatske mornarice 1\, Šibenik\, 22000
CATEGORIES:Film
ATTACH;FMTTYPE=image/jpeg:https://kucaarsen.hr/wp-content/uploads/2024/02/DJECAK-I-CAPLJA.jpg
GEO:43.7324192;15.8902935
X-APPLE-STRUCTURED-LOCATION;VALUE=URI;X-ADDRESS=Kuća umjetnosti Arsen Obala hrvatske mornarice 1 Šibenik 22000;X-APPLE-RADIUS=500;X-TITLE=Obala hrvatske mornarice 1:geo:15.8902935,43.7324192
END:VEVENT
END:VCALENDAR