BEGIN:VCALENDAR
VERSION:2.0
PRODID:-//Kuća umjetnosti Arsen - ECPv5.5.0//NONSGML v1.0//EN
CALSCALE:GREGORIAN
METHOD:PUBLISH
X-WR-CALNAME:Kuća umjetnosti Arsen
X-ORIGINAL-URL:https://kucaarsen.hr
X-WR-CALDESC:Događaji za Kuća umjetnosti Arsen
BEGIN:VTIMEZONE
TZID:Europe/Zagreb
BEGIN:DAYLIGHT
TZOFFSETFROM:+0100
TZOFFSETTO:+0200
TZNAME:CEST
DTSTART:20250330T010000
END:DAYLIGHT
BEGIN:STANDARD
TZOFFSETFROM:+0200
TZOFFSETTO:+0100
TZNAME:CET
DTSTART:20251026T010000
END:STANDARD
END:VTIMEZONE
BEGIN:VEVENT
DTSTART;TZID=Europe/Zagreb:20251227T183000
DTEND;TZID=Europe/Zagreb:20251227T183000
DTSTAMP:20260420T005046
CREATED:20251124T074230Z
LAST-MODIFIED:20251124T120100Z
UID:12178-1766860200-1766860200@kucaarsen.hr
SUMMARY:DJ Ahmet
DESCRIPTION:DJ Ahmet\, r. Georgi M. Unkovski; Sjeverna Makedonija\, Češka\, Srbija\, Hrvatska; 2025.; 99′ \n\n\n\nPetnaestogodišnji Ahmet živi s ocem i bratom u malenom pastirskom makedonskom selu. Ljubav prema glazbi pruža mu bijeg od napornih i monotonih pastirskih obaveza\, no svoju strast mora skrivati od strogog oca. Uz pomoć brata Naima\, Ahmet odluči slijediti svoje glazbene ambicije kako bi zadivio Ayu\, djevojku koja mu se sviđa\, ali je već “obećana” drugome. Svoju će priliku dobiti na šumskom dance festivalu koji se sprema u njihovom selu\, a koji će njihov ruralni krajolik transformirati u spektakl ritma\, boja i pokreta. Unkovskijev dugometražni prvijenac na Sundanceu je osvojio Nagradu publike te Posebnu nagradu žirija za kreativnu viziju\, a posebne je pohvale privukao i za svoju glazbu\, koju potpisuje poznati hrvatski skladateljski duo\, Alen i Nenad Sinkauz. \n  \n\nULAZNICE: Za Klub prijatelja 4\,20 € / redovna cijena 6 €  \nUlaznice po redovnoj cijeni dostupne su online i na blagajni Kuće umjetnosti Arsen. \nČlanovi Kluba prijatelja popust ostvaruju na fizičkim prodajnim mjestima uz predočenje važeće članske iskaznice. \n 
URL:https://kucaarsen.hr/event/dj-ahmet/
LOCATION:Kuća umjetnosti Arsen\, Obala hrvatske mornarice 1\, Šibenik\, 22000
CATEGORIES:Film
ATTACH;FMTTYPE=image/jpeg:https://kucaarsen.hr/wp-content/uploads/2025/11/dj-ahmet-03-.jpeg
GEO:43.7324192;15.8902935
X-APPLE-STRUCTURED-LOCATION;VALUE=URI;X-ADDRESS=Kuća umjetnosti Arsen Obala hrvatske mornarice 1 Šibenik 22000;X-APPLE-RADIUS=500;X-TITLE=Obala hrvatske mornarice 1:geo:15.8902935,43.7324192
END:VEVENT
END:VCALENDAR