BEGIN:VCALENDAR
VERSION:2.0
PRODID:-//Kuća umjetnosti Arsen - ECPv5.5.0//NONSGML v1.0//EN
CALSCALE:GREGORIAN
METHOD:PUBLISH
X-WR-CALNAME:Kuća umjetnosti Arsen
X-ORIGINAL-URL:https://kucaarsen.hr
X-WR-CALDESC:Događaji za Kuća umjetnosti Arsen
BEGIN:VTIMEZONE
TZID:Europe/Zagreb
BEGIN:DAYLIGHT
TZOFFSETFROM:+0100
TZOFFSETTO:+0200
TZNAME:CEST
DTSTART:20240331T010000
END:DAYLIGHT
BEGIN:STANDARD
TZOFFSETFROM:+0200
TZOFFSETTO:+0100
TZNAME:CET
DTSTART:20241027T010000
END:STANDARD
END:VTIMEZONE
BEGIN:VEVENT
DTSTART;TZID=Europe/Zagreb:20240323T200000
DTEND;TZID=Europe/Zagreb:20240323T200000
DTSTAMP:20260422T084143
CREATED:20240229T081704Z
LAST-MODIFIED:20240229T081704Z
UID:9846-1711224000-1711224000@kucaarsen.hr
SUMMARY:Dina: drugi dio
DESCRIPTION:Dina: drugi dio\, r. Denis Villeneuve\, SAD\, Kanada\, 2024.\, 166′ (12) \n  \nNakon što je prije nešto više od dvije godine prvi dio znanstveno-fantastičnog filmskog spektakla Dina poharao kinodvorane i osvojio šest Oscara\, na platna se vraća Paul Atreides\, nastavljajući svoju celuloidnu epsku avanturu. Udružujući snage s Chani i Fremenima\, otiskuje se putem osvete onima koji su uništili njegovu obitelj. Suočen s izborom između ljubavi svog života i sudbine poznatog svemira\, Paul mora spriječiti zastrašujuću budućnost koju samo on može predvidjeti. \nAdaptacije istoimenog SF romanesknog klasika Franka Herberta iz 1965.\, nakon svog prethodnika Davida Lyncha\, prihvatio se kanadski redatelj Denis Villeneuve (Naša majka\, 2010.; Sicario\, 2015.; Dolazak\, 2016.; Blade Runner 2049\, 2017.)\, uz kreativni tim koji je radio i na prvom dijelu filma: Oscarom ovjenčan Greig Fraser direktor je fotografije\, montažu potpisuje Joe Walker\, vizualne efekte Paul Lambert\, kostimografiju Jacqueline West\, a glazbu oskarovac Hans Zimmer. Timothéeju Chalametu i Zendayji pred objektivom kamere pridružili su se Rebecca Ferguson\, Josh Brolin\, Austin Butler\, Florence Pugh\, Dave Bautista\, Christopher Walken\, Stephen McKinley Henderson\, Léa Seydoux\, Stellan Skarsgård\, Charlotte Rampling i Javier Bardem. \n\nULAZNICE\nZa Klub prijatelja 3\,50€/ redovna cijena 4€  \nUlaznice po redovnoj cijeni dostupne su online i na blagajni Kuće umjetnosti Arsen. \nČlanovi  Kluba prijatelja popust ostvaruju na fizičkim prodajnim mjestima uz predočenje važeće članske iskaznice.
URL:https://kucaarsen.hr/event/dina-drugi-dio-2/
LOCATION:Kuća umjetnosti Arsen\, Obala hrvatske mornarice 1\, Šibenik\, 22000
CATEGORIES:Film
ATTACH;FMTTYPE=image/jpeg:https://kucaarsen.hr/wp-content/uploads/2024/02/DINA-2-scaled.jpg
GEO:43.7324192;15.8902935
X-APPLE-STRUCTURED-LOCATION;VALUE=URI;X-ADDRESS=Kuća umjetnosti Arsen Obala hrvatske mornarice 1 Šibenik 22000;X-APPLE-RADIUS=500;X-TITLE=Obala hrvatske mornarice 1:geo:15.8902935,43.7324192
END:VEVENT
END:VCALENDAR