BEGIN:VCALENDAR
VERSION:2.0
PRODID:-//Kuća umjetnosti Arsen - ECPv5.5.0//NONSGML v1.0//EN
CALSCALE:GREGORIAN
METHOD:PUBLISH
X-WR-CALNAME:Kuća umjetnosti Arsen
X-ORIGINAL-URL:https://kucaarsen.hr
X-WR-CALDESC:Događaji za Kuća umjetnosti Arsen
BEGIN:VTIMEZONE
TZID:Europe/Zagreb
BEGIN:DAYLIGHT
TZOFFSETFROM:+0100
TZOFFSETTO:+0200
TZNAME:CEST
DTSTART:20250330T010000
END:DAYLIGHT
BEGIN:STANDARD
TZOFFSETFROM:+0200
TZOFFSETTO:+0100
TZNAME:CET
DTSTART:20251026T010000
END:STANDARD
END:VTIMEZONE
BEGIN:VEVENT
DTSTART;TZID=Europe/Zagreb:20250403T200000
DTEND;TZID=Europe/Zagreb:20250403T200000
DTSTAMP:20260424T160513
CREATED:20250312T140144Z
LAST-MODIFIED:20250313T094039Z
UID:11468-1743710400-1743710400@kucaarsen.hr
SUMMARY:Damir Urban: Ništa se neće vratiti - RASPRODANO
DESCRIPTION:Koncert je rasprodan! \nDamir Urban stiže u Kuću umjetnosti Arsen 3. travnja u sklopu svoje nove turneje pod nazivom „Ništa se neće vratiti“– glazbene stanice i priče s Damirom Urbanom. \nTurneja je osmišljena kao serija susreta u intimnoj atmosferi\, na kojima se brišu granice između umjetnika i publike. “Ništa se neće vratiti” vodi nas na glazbeno putovanje kroz priče\, sjećanja i pjesme. \n„Nakon puno koncerata i iskustava sviranja u donekle predvidivim i poznatim okolnostima\, poželio sam neko\, meni još uvijek\, neistraženo i novo iskustvo. Nadam se intimnoj atmosferi u kojoj ćemo\, poput prijatelja\, izmijeniti pokoju misao\, pitanje\, pokušati pronaći možda i neki odgovor\, ali prije svega kroz glazbu proputovati kroz neke stanice prošlosti\, ali i budućnosti“\, kaže sam Urban o turneji. \nDamir Urban je poznat po tome da često eksperimentira i kombinira nešto novo\, a sada predstavlja inovativan oblik umjetničkog nastupa koji spaja glazbu\, priču i interakciju s publikom. \nKroz introspektivne refleksije o prolaznosti\, sjećanjima i umjetnosti\, Urban na ovoj turneji u svojstvu storytellera vodi publiku na malo drugačije glazbeno putovanje. \nKako sve skupa zvuči\, odnosno izgleda\, provjerite 3. travnja u Kući umjetnosti Arsen u 20 sati. \nULAZNICE \nZa Klub prijatelja 20€ / redovna cijena 25€ \nUlaznice po redovnoj cijeni dostupne su online i na blagajni Kuće umjetnosti Arsen. \nČlanovi Kluba prijatelja popust ostvaruju na fizičkim prodajnim mjestima uz predočenje važeće članske iskaznice.
URL:https://kucaarsen.hr/event/damir-urban-nista-se-nece-vratiti/
LOCATION:Kuća umjetnosti Arsen\, Obala hrvatske mornarice 1\, Šibenik\, 22000
CATEGORIES:Glazba
ATTACH;FMTTYPE=image/png:https://kucaarsen.hr/wp-content/uploads/2025/03/Urban-Arsen-02.png
GEO:43.7324192;15.8902935
X-APPLE-STRUCTURED-LOCATION;VALUE=URI;X-ADDRESS=Kuća umjetnosti Arsen Obala hrvatske mornarice 1 Šibenik 22000;X-APPLE-RADIUS=500;X-TITLE=Obala hrvatske mornarice 1:geo:15.8902935,43.7324192
END:VEVENT
END:VCALENDAR