BEGIN:VCALENDAR
VERSION:2.0
PRODID:-//Kuća umjetnosti Arsen - ECPv5.5.0//NONSGML v1.0//EN
CALSCALE:GREGORIAN
METHOD:PUBLISH
X-WR-CALNAME:Kuća umjetnosti Arsen
X-ORIGINAL-URL:https://kucaarsen.hr
X-WR-CALDESC:Događaji za Kuća umjetnosti Arsen
BEGIN:VTIMEZONE
TZID:Europe/Zagreb
BEGIN:DAYLIGHT
TZOFFSETFROM:+0100
TZOFFSETTO:+0200
TZNAME:CEST
DTSTART:20220327T010000
END:DAYLIGHT
BEGIN:STANDARD
TZOFFSETFROM:+0200
TZOFFSETTO:+0100
TZNAME:CET
DTSTART:20221030T010000
END:STANDARD
END:VTIMEZONE
BEGIN:VEVENT
DTSTART;TZID=Europe/Zagreb:20220403T183000
DTEND;TZID=Europe/Zagreb:20220403T183000
DTSTAMP:20260424T180424
CREATED:20220328T114216Z
LAST-MODIFIED:20220328T115311Z
UID:6098-1649010600-1649010600@kucaarsen.hr
SUMMARY:Cyrano
DESCRIPTION:CYRANO (12) \nJoe Wright \nSAD\, 2021.\, 124′ \n  \nAntologijska priča o Cyranu de Bergeracu\, francuskom pjesniku koji je živio i stvarao u 17. stoljeću\, u režiji britanskog redatellja Joea Wrighta poznatog po adaptacijama romana Ponos i predrasude (2005.)\, Okajanje (2007) i Ana Karenjina (2012.)\, postala je mjuzikl o ljubavnom trokutu uz pregršt emocija i pamtljivu glazbu. Cyrano (Peter Dinklage) je čovjek ispred svog vremena\, koji zadivljuje žestokom igrom riječi na verbalnom natjecanju i briljantnim mačevanjem u dvoboju. Nesiguran u svoj fizički izgled\, Cyrano je uvjeren kako nije dostojan ljubavi odane prijateljice\, blistave Roxanne (Haley Bennett). Cyrano tek treba izjaviti svoje osjećaje prema Roxanne\, a ona se na prvi pogled zaljubljuje u Christiana (Kelvin Harrison\, Jr.). Film ilustrira nekoliko tema – moć jezika\, prevaru i kompleksnost ljubavnih odnosa\, ali i unutarnju borbu u kojem se sučeljavaju vanjski izgled i unutarnje vrijednosti. Prema riječima samog redatelja\, film govori o tome “koliko se često ne uspijevamo povezati s drugim ljudima iz straha o tome kako će nas percipirati”. Naslovnu ulogu odigrao je Peter Dinklage\, široko poznat po svojoj ulozi u seriji Igre prijestolja. \n  \nULAZNICA: 25 kn \nZa članove Kluba prijatelja šibenskih tvrđava: 20 kn (na blagajni Arsena\, uz predočenje važeće članske iskaznice)
URL:https://kucaarsen.hr/event/cyrano/
LOCATION:Kuća umjetnosti Arsen\, Obala hrvatske mornarice 1\, Šibenik\, 22000
CATEGORIES:Film
ATTACH;FMTTYPE=image/jpeg:https://kucaarsen.hr/wp-content/uploads/2022/03/CYRANO-169.jpg
GEO:43.7324192;15.8902935
X-APPLE-STRUCTURED-LOCATION;VALUE=URI;X-ADDRESS=Kuća umjetnosti Arsen Obala hrvatske mornarice 1 Šibenik 22000;X-APPLE-RADIUS=500;X-TITLE=Obala hrvatske mornarice 1:geo:15.8902935,43.7324192
END:VEVENT
END:VCALENDAR