BEGIN:VCALENDAR
VERSION:2.0
PRODID:-//Kuća umjetnosti Arsen - ECPv5.5.0//NONSGML v1.0//EN
CALSCALE:GREGORIAN
METHOD:PUBLISH
X-WR-CALNAME:Kuća umjetnosti Arsen
X-ORIGINAL-URL:https://kucaarsen.hr
X-WR-CALDESC:Događaji za Kuća umjetnosti Arsen
BEGIN:VTIMEZONE
TZID:Europe/Zagreb
BEGIN:DAYLIGHT
TZOFFSETFROM:+0100
TZOFFSETTO:+0200
TZNAME:CEST
DTSTART:20260329T010000
END:DAYLIGHT
BEGIN:STANDARD
TZOFFSETFROM:+0200
TZOFFSETTO:+0100
TZNAME:CET
DTSTART:20261025T010000
END:STANDARD
END:VTIMEZONE
BEGIN:VEVENT
DTSTART;TZID=Europe/Zagreb:20260218T203000
DTEND;TZID=Europe/Zagreb:20260218T203000
DTSTAMP:20260419T162653
CREATED:20260202T042112Z
LAST-MODIFIED:20260219T074831Z
UID:12558-1771446600-1771446600@kucaarsen.hr
SUMMARY:Češljaonica: Malteški sokol
DESCRIPTION:Malteški sokol (The Maltese Falcon)\, r. John Huston\, SAD\, 1941.\, 100′ \nU mračnim ulicama San Francisca\, usamljeni privatni detektiv Sam Spade (Humphrey Bogart) ulazi u smrtonosnu igru oko legendarnog predmeta – Malteškog sokola… \nRedateljski prvijenac Johna Hustona nominiran za tri Oscara smatra se jednim od ključnih naslova klasičnog Hollywooda i bazičnim osvarenjem film noira: cinični junak\, fatalna žena\, britki dijalozi i svijet u kojem nitko nije nevin. Malteški sokol nije samo krimić\, nego bezvremenski portret morala pod pritiskom – holivudski klasik koji i danas reže oštro kao prvi put. Ističe se preciznom režijom\, snažnim glumačkim ostvarenjima i dijalozima preuzetima iz romana Dashiella Hammetta. \n  \nCiklus Bogart – Huston\nU sklopu kinotečnog programa Češljaonica u veljači starta prikazivanje filmova iz Ciklusa Bogart – Huston\, odnosno projekcije četiri ostvarenja nastala suradnjom glumca Humphreya Bogarta te redatelja i scenarista Johna Hustona. Filmovi će biti projicirani kronološkim redoslijedom: Malteški sokol (1941.)\, Blago Sierra Madre (1948.)\, Otok Largo (1948.) i Afrička kraljica (1951.). Riječ je o jednom od najsnažnijih tandema klasičnog Hollywooda\, koji istražujući teme moralne ambivalentnosti\, pohlepe\, časti i ljudske slabosti\, kroz žanrovski različite filmove oblikuju lik onovremenog modernog antiheroja. Ciklus također prati razvoj Bogartove glumačke persone – od ciničnog detektiva do ranjivog pustolova te potvrđuje Hustona kao redatelja iznimne preciznosti i dubokog razumijevanja ljudske prirode. \n  \nČešljaonica – bitno iz filmske povijesti\nU sklopu kinotečnog programa Češljaonica ljubitelji sedme umjetnosti imaju mogućnost jednom mjesečno na velikom platnu Kuće umjetnosti Arsen pogledati poneko od značajni(ij)h filmskih ostvarenja odabranih metodom svojevrsnog “češljanja” kroz gotovo 130 godina dugu povijest svjetske kinematografije. Odabiratelj filmova i uvodničar uoči projekcije je Ante Storić. \n  \nULAZNICE\nČlanovima Silver Kluba prijatelja ulaz na predstavu je slobodan. \nZa Klub prijatelja 4\,20 € / redovna cijena 6 €  \nUlaznice po redovnoj cijeni dostupne su online i na blagajni Kuće umjetnosti Arsen. \nČlanovi Kluba prijatelja popust ostvaruju na fizičkim prodajnim mjestima uz predočenje važeće članske iskaznice. \n 
URL:https://kucaarsen.hr/event/cesljaonica-malteski-sokol/
LOCATION:Kuća umjetnosti Arsen\, Obala hrvatske mornarice 1\, Šibenik\, 22000
CATEGORIES:Film
ATTACH;FMTTYPE=image/jpeg:https://kucaarsen.hr/wp-content/uploads/2026/02/malteski-sokol.jpg
GEO:43.7324192;15.8902935
X-APPLE-STRUCTURED-LOCATION;VALUE=URI;X-ADDRESS=Kuća umjetnosti Arsen Obala hrvatske mornarice 1 Šibenik 22000;X-APPLE-RADIUS=500;X-TITLE=Obala hrvatske mornarice 1:geo:15.8902935,43.7324192
END:VEVENT
END:VCALENDAR