BEGIN:VCALENDAR
VERSION:2.0
PRODID:-//Kuća umjetnosti Arsen - ECPv5.5.0//NONSGML v1.0//EN
CALSCALE:GREGORIAN
METHOD:PUBLISH
X-WR-CALNAME:Kuća umjetnosti Arsen
X-ORIGINAL-URL:https://kucaarsen.hr
X-WR-CALDESC:Događaji za Kuća umjetnosti Arsen
BEGIN:VTIMEZONE
TZID:Europe/Zagreb
BEGIN:DAYLIGHT
TZOFFSETFROM:+0100
TZOFFSETTO:+0200
TZNAME:CEST
DTSTART:20250330T010000
END:DAYLIGHT
BEGIN:STANDARD
TZOFFSETFROM:+0200
TZOFFSETTO:+0100
TZNAME:CET
DTSTART:20251026T010000
END:STANDARD
END:VTIMEZONE
BEGIN:VEVENT
DTSTART;TZID=Europe/Zagreb:20250326T200000
DTEND;TZID=Europe/Zagreb:20250326T200000
DTSTAMP:20260420T201215
CREATED:20250314T145152Z
LAST-MODIFIED:20250326T132307Z
UID:11513-1743019200-1743019200@kucaarsen.hr
SUMMARY:Češljaonica: Francuska veza
DESCRIPTION:Francuska veza (The French Connection)\, r. William Friedkin; SAD; 1971.; 104′ \nKad grubi njujorški policajac Jimmy Doyle zvan Popeye (dvostruki oskarovac Gene Hackman) i njegov partner Buddy Russo (Roy Scheider) kao novi zadatak prihvate operaciju presretanja lanca transporta heroina iz Francuske u SAD\, ni ne slute da ih čeka prilično zahtjevan zadatak… \nU sjećanje na nedavno preminulog glumačkog velikana projiciramo ovaj krimi-klasik temeljen na faction-knjizi The French Connection: The World’s Most Crucial Narcotics Investigation koji na impresivan naturalistički način predočava kontekst akcije prekida konkretne prekooceanske narko-rute kojom je droga transportirana krajem 60-tih godina prošlog stoljeća i pseudodokumentarističkim elementima krajnje realistično prikazuje sliku kriminala na njujorškim ulicama. \nOvjenčana s pet bitnijih Oscara (najbolji film\, režija\, glavni glumac\, adaptirani scenarij i montaža)\, ova dojmljiva kriminalistička drama grubog realističnog stila\, sjajnih glumačkih izvedbi\, izvrsnog ritma i sugestivne režije Williama Friedkina u vrijeme premijere predstavljala je osvježenje u okviru žanrovskih konvencija. \n  \nČešljaonica – bitno iz filmske povijesti\nU sklopu kinotečnog programa Češljaonica ljubitelji sedme umjetnosti imaju mogućnost jednom mjesečno na velikom platnu Kuće umjetnosti Arsen pogledati poneko od značajni(ij)h filmskih ostvarenja odabranih metodom svojevrsnog “češljanja” kroz gotovo 130 godina dugu povijest svjetske kinematografije. Odabiratelj filmova i uvodničar uoči projekcije je Ante Storić. \n\nProjekcija je dio programske linije Silver čiji je cilj poticanje društvene inkluzije seniora. \nU sklopu programa Silver\, Klub prijatelja dobio je produžetak – Silver Klub prijatelja čiji članovi imaju besplatan pristup svim programima s prefiksom Silver i povlaštenu cijenu učlanjenja. \n  \n\nULAZNICE\nČlanovima Silver Kluba prijatelja ulaz na predstavu je slobodan. \nZa Klub prijatelja 3 € / redovna cijena 4 €  \nUlaznice po redovnoj cijeni dostupne su online i na blagajni Kuće umjetnosti Arsen. \nČlanovi Kluba prijatelja popust ostvaruju na fizičkim prodajnim mjestima uz predočenje važeće članske iskaznice. \n 
URL:https://kucaarsen.hr/event/cesljaonica-francuska-veza/
LOCATION:Kuća umjetnosti Arsen\, Obala hrvatske mornarice 1\, Šibenik\, 22000
CATEGORIES:Film
ATTACH;FMTTYPE=image/jpeg:https://kucaarsen.hr/wp-content/uploads/2025/03/thefrenchconnection.jpg
GEO:43.7324192;15.8902935
X-APPLE-STRUCTURED-LOCATION;VALUE=URI;X-ADDRESS=Kuća umjetnosti Arsen Obala hrvatske mornarice 1 Šibenik 22000;X-APPLE-RADIUS=500;X-TITLE=Obala hrvatske mornarice 1:geo:15.8902935,43.7324192
END:VEVENT
END:VCALENDAR