BEGIN:VCALENDAR
VERSION:2.0
PRODID:-//Kuća umjetnosti Arsen - ECPv5.5.0//NONSGML v1.0//EN
CALSCALE:GREGORIAN
METHOD:PUBLISH
X-WR-CALNAME:Kuća umjetnosti Arsen
X-ORIGINAL-URL:https://kucaarsen.hr
X-WR-CALDESC:Događaji za Kuća umjetnosti Arsen
BEGIN:VTIMEZONE
TZID:Europe/Zagreb
BEGIN:DAYLIGHT
TZOFFSETFROM:+0100
TZOFFSETTO:+0200
TZNAME:CEST
DTSTART:20240331T010000
END:DAYLIGHT
BEGIN:STANDARD
TZOFFSETFROM:+0200
TZOFFSETTO:+0100
TZNAME:CET
DTSTART:20241027T010000
END:STANDARD
END:VTIMEZONE
BEGIN:VEVENT
DTSTART;TZID=Europe/Zagreb:20240320T203000
DTEND;TZID=Europe/Zagreb:20240320T203000
DTSTAMP:20260423T224719
CREATED:20240228T121225Z
LAST-MODIFIED:20240315T084002Z
UID:9840-1710966600-1710966600@kucaarsen.hr
SUMMARY:Češljaonica: Blade Runner
DESCRIPTION:Blade Runner / Istrebljivač\, r. Ridley Scott\, SAD\, 1982.\, 117′ \n  \nOvog ožujka u sklopu kinotečnog program Češljaonica na velikom platnu imate priliku pogledati najveći SF film svih vremena! \nU tada dalekoj 2019. godini Los Angeles je negostoljubiv i mračan megalopolis u kojem stalno kiši\, a Rick Deckard (Harrison Ford) je umirovljeni policajac koji mora kao Istrebljivač likvidirati četvoro replikanta – androida identičnim ljudima\, no kad se zaljubi u replikanticu Rachael\, počne sumnjati u opravdanost svoje misije. \nUspješna adaptacija Phillip K. Dickovog romana ‘Sanjaju li androidi električne ovce?’ jedan je od najznačajnijih i najutjecajnijih filmova svih vremena\, u kojem je Ridley Scott žanrovski okvir maestralno režiranog\, iznimno sugestivnog i vizualno fascinantnog noirovskog trilera izuzetno vješto iskoristio za umetanje i elaboriranje vrlo intrigantnih Dickovih motiva poput rasizma\, zatiranja humanosti\, (ne)poštivanja autoriteta\, etičnosti kloniranja itd.  \nKultni znanstvenofantastični film koji je pretprošle godine proslavio okruglu 40. godišnjicu i uspješno odoljeva zubu vremena očekuje Vas na velikom platnu Kuće umjetnosti Arsen! \n(Tekst: Ante Storić\, odabiratelj programa Češljaonica) \n\nULAZNICE\nZa Klub prijatelja 3€/ redovna cijena 3\,50€  \nUlaznice po redovnoj cijeni dostupne su online i na blagajni Kuće umjetnosti Arsen. \nČlanovi  Kluba prijatelja popust ostvaruju na fizičkim prodajnim mjestima uz predočenje važeće članske iskaznice. \n 
URL:https://kucaarsen.hr/event/cesljaonica-blade-runner/
LOCATION:Kuća umjetnosti Arsen\, Obala hrvatske mornarice 1\, Šibenik\, 22000
CATEGORIES:Film
ATTACH;FMTTYPE=image/jpeg:https://kucaarsen.hr/wp-content/uploads/2024/02/blade-runner.jpg
GEO:43.7324192;15.8902935
X-APPLE-STRUCTURED-LOCATION;VALUE=URI;X-ADDRESS=Kuća umjetnosti Arsen Obala hrvatske mornarice 1 Šibenik 22000;X-APPLE-RADIUS=500;X-TITLE=Obala hrvatske mornarice 1:geo:15.8902935,43.7324192
END:VEVENT
END:VCALENDAR