BEGIN:VCALENDAR
VERSION:2.0
PRODID:-//Kuća umjetnosti Arsen - ECPv5.5.0//NONSGML v1.0//EN
CALSCALE:GREGORIAN
METHOD:PUBLISH
X-WR-CALNAME:Kuća umjetnosti Arsen
X-ORIGINAL-URL:https://kucaarsen.hr
X-WR-CALDESC:Događaji za Kuća umjetnosti Arsen
BEGIN:VTIMEZONE
TZID:Europe/Zagreb
BEGIN:DAYLIGHT
TZOFFSETFROM:+0100
TZOFFSETTO:+0200
TZNAME:CEST
DTSTART:20260329T010000
END:DAYLIGHT
BEGIN:STANDARD
TZOFFSETFROM:+0200
TZOFFSETTO:+0100
TZNAME:CET
DTSTART:20261025T010000
END:STANDARD
END:VTIMEZONE
BEGIN:VEVENT
DTSTART;TZID=Europe/Zagreb:20260215T170000
DTEND;TZID=Europe/Zagreb:20260215T170000
DTSTAMP:20260419T194528
CREATED:20260202T043625Z
LAST-MODIFIED:20260202T160459Z
UID:12569-1771174800-1771174800@kucaarsen.hr
SUMMARY:Bubamarac: Zootropola 2
DESCRIPTION:Zootropola 2 (Zootropia 2)\, SAD\, 2025.; 107′\, animirani\, sinkr. \nNa veliko platno napokon se vraćaju zečica Iva i lisac Nikola! Dugoiščekivani nastavak Oscarom ovjenčane uspješnice studija Walt Disney priprema još bržu\, luđu i zabavniju utrku kroz grad u kojem je sve moguće! Nakon što tajanstveni Gary De’Snake sleti u Zootropolu i okrene sve naglavačke\, odvažna policijska novakinja Iva i njezin šarmantni partner Nikola moraju krenuti u akciju\, prerušiti se i istražiti najskrivenije četvrti grada – od vlažnih močvara do vrelih pustinjskih dina. Utrka s vremenom\, neočekivani saveznici i humor od kojeg će cijela dvorana brujati – Zootropola 2 širi svoj svijet i podiže uloge: prijateljstvo će se naći na kušnji\, a svaki korak otkriva novu tajnu. Film je nominiran za Oscara u kategoriji najboljeg dugometražnog animiranog ostvarenja. \n\n\nULAZNICE: Za Klub prijatelja 3\,50 € / redovna cijena 5 €  \nUlaznice su dostupne online i na blagajni Kuće umjetnosti Arsen. \nČlanovi Kluba prijatelja popust ostvaruju uz predočenje važeće članske iskaznice na blagajni Kuće umjetnosti Arsen. \nKako bi djeca na zabavan način bila potaknuta na redovito sudjelovanje u predstavama i filmskim projekcijama\, osmišljen je program vjernosti Bubamarac klub o kojem više možete pročitati OVDJE. \n\n 
URL:https://kucaarsen.hr/event/bubamarac-zootropola-2/
LOCATION:Kuća umjetnosti Arsen\, Obala hrvatske mornarice 1\, Šibenik\, 22000
CATEGORIES:Djeca i mladi,Film
ATTACH;FMTTYPE=image/png:https://kucaarsen.hr/wp-content/uploads/2026/02/zootropola2.png
GEO:43.7324192;15.8902935
X-APPLE-STRUCTURED-LOCATION;VALUE=URI;X-ADDRESS=Kuća umjetnosti Arsen Obala hrvatske mornarice 1 Šibenik 22000;X-APPLE-RADIUS=500;X-TITLE=Obala hrvatske mornarice 1:geo:15.8902935,43.7324192
END:VEVENT
END:VCALENDAR