BEGIN:VCALENDAR
VERSION:2.0
PRODID:-//Kuća umjetnosti Arsen - ECPv5.5.0//NONSGML v1.0//EN
CALSCALE:GREGORIAN
METHOD:PUBLISH
X-WR-CALNAME:Kuća umjetnosti Arsen
X-ORIGINAL-URL:https://kucaarsen.hr
X-WR-CALDESC:Događaji za Kuća umjetnosti Arsen
BEGIN:VTIMEZONE
TZID:Europe/Zagreb
BEGIN:DAYLIGHT
TZOFFSETFROM:+0100
TZOFFSETTO:+0200
TZNAME:CEST
DTSTART:20240331T010000
END:DAYLIGHT
BEGIN:STANDARD
TZOFFSETFROM:+0200
TZOFFSETTO:+0100
TZNAME:CET
DTSTART:20241027T010000
END:STANDARD
END:VTIMEZONE
BEGIN:VEVENT
DTSTART;TZID=Europe/Zagreb:20241228T110000
DTEND;TZID=Europe/Zagreb:20241228T110000
DTSTAMP:20260424T225625
CREATED:20241226T165914Z
LAST-MODIFIED:20241226T165914Z
UID:11080-1735383600-1735383600@kucaarsen.hr
SUMMARY:Bubamarac: Veseli adventski show
DESCRIPTION:Ove godine\, pokloni Djeda Božićnjaka misteriozno su nestali\, ostavljajući vilenjake u panici. Klaun Spartanko odlučuje se upustiti u potragu kako bi spasio Božić. Hoće li uspjeti pronaći poklone i donijeti sreću mališanima? Ova priča ispunjena čarolijom\, prijateljstvom i hrabrošću pokazat će da se istinska sreća ne nalazi samo u poklonima\, već u zajedništvu i ljubavi. Sve skupa je začinjeno čarobnim trikovima\, klaunskim gegovima\, prigodnim pjesmicama i interaktivnim igrama. \nULAZNICE \nZa Klub prijatelja 3\,00€/ redovna cijena 4\,00€  \nUlaznice po redovnoj cijeni dostupne su online i na blagajni Kuće umjetnosti Arsen. \nČlanovi  Kluba prijatelja popust ostvaruju uz predočenje važeće članske iskaznice na blagajni Kuće umjetnosti Arsen.
URL:https://kucaarsen.hr/event/bubamarac-veseli-adventski-show/
LOCATION:Kuća umjetnosti Arsen\, Obala hrvatske mornarice 1\, Šibenik\, 22000
CATEGORIES:Djeca i mladi
ATTACH;FMTTYPE=image/jpeg:https://kucaarsen.hr/wp-content/uploads/2024/04/BabyKino-9.jpg
GEO:43.7324192;15.8902935
X-APPLE-STRUCTURED-LOCATION;VALUE=URI;X-ADDRESS=Kuća umjetnosti Arsen Obala hrvatske mornarice 1 Šibenik 22000;X-APPLE-RADIUS=500;X-TITLE=Obala hrvatske mornarice 1:geo:15.8902935,43.7324192
END:VEVENT
END:VCALENDAR