BEGIN:VCALENDAR
VERSION:2.0
PRODID:-//Kuća umjetnosti Arsen - ECPv5.5.0//NONSGML v1.0//EN
CALSCALE:GREGORIAN
METHOD:PUBLISH
X-WR-CALNAME:Kuća umjetnosti Arsen
X-ORIGINAL-URL:https://kucaarsen.hr
X-WR-CALDESC:Događaji za Kuća umjetnosti Arsen
BEGIN:VTIMEZONE
TZID:Europe/Zagreb
BEGIN:DAYLIGHT
TZOFFSETFROM:+0100
TZOFFSETTO:+0200
TZNAME:CEST
DTSTART:20230326T010000
END:DAYLIGHT
BEGIN:STANDARD
TZOFFSETFROM:+0200
TZOFFSETTO:+0100
TZNAME:CET
DTSTART:20231029T010000
END:STANDARD
END:VTIMEZONE
BEGIN:VEVENT
DTSTART;TZID=Europe/Zagreb:20231111T110000
DTEND;TZID=Europe/Zagreb:20231111T110000
DTSTAMP:20260419T192044
CREATED:20231106T083924Z
LAST-MODIFIED:20231106T083959Z
UID:9161-1699700400-1699700400@kucaarsen.hr
SUMMARY:Bubamarac: Tri kapljice života i Ptić Lastavić i mačak Koko
DESCRIPTION:Kazališna udruga Virko na pozornicu Kuće umjetnosti Arsen u sklopu programa Bubamarac donosi predstave Tri kapljice života i Ptić Lastavić i mačak Koko! \nRiječ je o kratkim pričama u kojima se posebna pozornost pridaje empatiji\, koje je u današnjem svijetu sve manje. Virko će nas dakle podsjetiti što je zapravo stvarna empatija\, riječima\, pjesmom ali i djelom. \nProgram je prilagođen djeci u dobi od 4 do 10 godina. \nULAZNICE: 3\,00 € (22\,60 kn) \nDostupne online i na blagajni Kuće umjetnosti Arsen. \nBubamarac\, Arsenov program za djecu i mlade na rasporedu je vikendom od 11 sati\, a na rasporedu su predstave\, dječji filmovi i ostali programi uz puno smijeha i dobre zabave.
URL:https://kucaarsen.hr/event/bubamarac-tri-kapljice-zivota-ptic-lastavic/
LOCATION:Kuća umjetnosti Arsen\, Obala hrvatske mornarice 1\, Šibenik\, 22000
CATEGORIES:Djeca i mladi,Kazalište
ATTACH;FMTTYPE=image/png:https://kucaarsen.hr/wp-content/uploads/2023/11/Ptic-koko-11.11.png
GEO:43.7324192;15.8902935
X-APPLE-STRUCTURED-LOCATION;VALUE=URI;X-ADDRESS=Kuća umjetnosti Arsen Obala hrvatske mornarice 1 Šibenik 22000;X-APPLE-RADIUS=500;X-TITLE=Obala hrvatske mornarice 1:geo:15.8902935,43.7324192
END:VEVENT
END:VCALENDAR