BEGIN:VCALENDAR
VERSION:2.0
PRODID:-//Kuća umjetnosti Arsen - ECPv5.5.0//NONSGML v1.0//EN
CALSCALE:GREGORIAN
METHOD:PUBLISH
X-WR-CALNAME:Kuća umjetnosti Arsen
X-ORIGINAL-URL:https://kucaarsen.hr
X-WR-CALDESC:Događaji za Kuća umjetnosti Arsen
BEGIN:VTIMEZONE
TZID:Europe/Zagreb
BEGIN:DAYLIGHT
TZOFFSETFROM:+0100
TZOFFSETTO:+0200
TZNAME:CEST
DTSTART:20240331T010000
END:DAYLIGHT
BEGIN:STANDARD
TZOFFSETFROM:+0200
TZOFFSETTO:+0100
TZNAME:CET
DTSTART:20241027T010000
END:STANDARD
END:VTIMEZONE
BEGIN:VEVENT
DTSTART;TZID=Europe/Zagreb:20240210T110000
DTEND;TZID=Europe/Zagreb:20240210T110000
DTSTAMP:20260419T162310
CREATED:20240126T092428Z
LAST-MODIFIED:20240212T080857Z
UID:9593-1707562800-1707562800@kucaarsen.hr
SUMMARY:Bubamarac: Tata Slikovnica i Sebastijan
DESCRIPTION:Predstava je otkazana zbog bolesti glumca! \nPovrat novca za ulaznice kupljene na blagajni vrši se na istom mjestu\, dok će se povrat novca za ulaznice kupljene online vršiti  automatski od ponedjeljka 12. veljače 2024.  \nHvala na razumijevanju! \n\n  \nTata Slikovnica uz glazbenu pratnju svog prijatelja Sebastiana priča nam svoju ‘Sretnu priču o jednom medvjediću’. \nNo kad Sebastian uzme stvari u svoje ruke\, predstava se otima kontroli i odjednom se pretvara u interaktivnu dramsku igru u kojoj sudjeluju djeca iz publike\, kao i cijela publika. \nOva vesela predstava je preporučena za uzrast od 4 do 9 godina\, a za šibenske mališane izvode je Igor Baska i Ivan Petranović. \nO PREDSTAVI \nRežija i dramatizacija: Igor Baksa \nScenografija: Nikolina Knežević Hrgović \nGlazba: Ivan Petranović \n\nULAZNICE\nCijena: 3\,00 € (22\,60 kn) \nDostupne online i na blagajni Kuće umjetnosti Arsen. \n \nO BUBAMARCU\nBubamarac\, Arsenov program za djecu i mlade na rasporedu je vikendom od 11 sati\, a na rasporedu su predstave\, dječji filmovi i ostali programi uz puno smijeha i dobre zabave.
URL:https://kucaarsen.hr/event/bubamarac-tata-slikovnica-i-sebastijan/
LOCATION:Kuća umjetnosti Arsen\, Obala hrvatske mornarice 1\, Šibenik\, 22000
CATEGORIES:Djeca i mladi,Kazalište
ATTACH;FMTTYPE=image/png:https://kucaarsen.hr/wp-content/uploads/2024/01/tata-slikovnica-i-sebastijan-web.png
GEO:43.7324192;15.8902935
X-APPLE-STRUCTURED-LOCATION;VALUE=URI;X-ADDRESS=Kuća umjetnosti Arsen Obala hrvatske mornarice 1 Šibenik 22000;X-APPLE-RADIUS=500;X-TITLE=Obala hrvatske mornarice 1:geo:15.8902935,43.7324192
END:VEVENT
END:VCALENDAR