BEGIN:VCALENDAR
VERSION:2.0
PRODID:-//Kuća umjetnosti Arsen - ECPv5.5.0//NONSGML v1.0//EN
CALSCALE:GREGORIAN
METHOD:PUBLISH
X-WR-CALNAME:Kuća umjetnosti Arsen
X-ORIGINAL-URL:https://kucaarsen.hr
X-WR-CALDESC:Događaji za Kuća umjetnosti Arsen
BEGIN:VTIMEZONE
TZID:Europe/Zagreb
BEGIN:DAYLIGHT
TZOFFSETFROM:+0100
TZOFFSETTO:+0200
TZNAME:CEST
DTSTART:20250330T010000
END:DAYLIGHT
BEGIN:STANDARD
TZOFFSETFROM:+0200
TZOFFSETTO:+0100
TZNAME:CET
DTSTART:20251026T010000
END:STANDARD
END:VTIMEZONE
BEGIN:VEVENT
DTSTART;TZID=Europe/Zagreb:20251221T170000
DTEND;TZID=Europe/Zagreb:20251221T170000
DTSTAMP:20260420T083216
CREATED:20251124T074225Z
LAST-MODIFIED:20251124T115812Z
UID:12181-1766336400-1766336400@kucaarsen.hr
SUMMARY:Bubamarac - Tafiti: Avantura u pustinji
DESCRIPTION:Tafiti: Avantura u pustinji; r. Timo Berg\, Nina Wels; Njemačka; 2025.; animirani\, sinkr.; 81′  \nKad mladi merkat Tafiti upozna divlju svinju Čupka odmah mu postaje jasno da njih dvojica neće moći postati prijatelji. “Merkati se drže svoje vrste”\, oduvijek mu je govorio djed\, budući je život u pustinji prepun opasnosti. No\, kad Čupka napadne orao\, upravo će Tafiti biti taj koji će mu priskočiti u pomoć. Očajnički u potrazi za novim prijateljem\, simpatična i uvijek za igru spremna divlja svinja Čupko otpratit će Tafitija do njegove kuće te nenamjerno uzrokovati nesretan incident – Tafitijevog djeda ugrist će otrovna zmija\, a jedino što ga može spasiti je mitski plavi pustinjski cvijet. Tafiti će se tako upustiti na opasno putovanje u potrazi za cvijetom\, uvjeren da to mora učiniti sam. A na Čupku ostaje da mu dokaže da su avanture uvijek bolje uz prave prijatelje! \nSnimljena prema popularnom dječjem književnom serijalu autorice Julije Boehme\, ova animirana pustinjska avantura o prijateljstvu\, hrabrosti i solidarnosti zabavit će sve generacije. \n  \nULAZNICE: Za Klub prijatelja 3\,50 € / redovna cijena 5 €  \nUlaznice su dostupne online i na blagajni Kuće umjetnosti Arsen. \nČlanovi  Kluba prijatelja popust ostvaruju uz predočenje važeće članske iskaznice na blagajni Kuće umjetnosti Arsen. \nKako bi djeca na zabavan način bila potaknuta na redovito sudjelovanje u predstavama i filmskim projekcijama\, osmišljen je program vjernosti Bubamarac klub o kojem više možete pročitati OVDJE. \n 
URL:https://kucaarsen.hr/event/bubamarac-tafiti-avantura-u-pustinji/
LOCATION:Kuća umjetnosti Arsen\, Obala hrvatske mornarice 1\, Šibenik\, 22000
CATEGORIES:Djeca i mladi,Film
ATTACH;FMTTYPE=image/jpeg:https://kucaarsen.hr/wp-content/uploads/2025/11/tafiti.jpg
GEO:43.7324192;15.8902935
X-APPLE-STRUCTURED-LOCATION;VALUE=URI;X-ADDRESS=Kuća umjetnosti Arsen Obala hrvatske mornarice 1 Šibenik 22000;X-APPLE-RADIUS=500;X-TITLE=Obala hrvatske mornarice 1:geo:15.8902935,43.7324192
END:VEVENT
END:VCALENDAR