BEGIN:VCALENDAR
VERSION:2.0
PRODID:-//Kuća umjetnosti Arsen - ECPv5.5.0//NONSGML v1.0//EN
CALSCALE:GREGORIAN
METHOD:PUBLISH
X-WR-CALNAME:Kuća umjetnosti Arsen
X-ORIGINAL-URL:https://kucaarsen.hr
X-WR-CALDESC:Događaji za Kuća umjetnosti Arsen
BEGIN:VTIMEZONE
TZID:Europe/Zagreb
BEGIN:DAYLIGHT
TZOFFSETFROM:+0100
TZOFFSETTO:+0200
TZNAME:CEST
DTSTART:20240331T010000
END:DAYLIGHT
BEGIN:STANDARD
TZOFFSETFROM:+0200
TZOFFSETTO:+0100
TZNAME:CET
DTSTART:20241027T010000
END:STANDARD
END:VTIMEZONE
BEGIN:VEVENT
DTSTART;TZID=Europe/Zagreb:20240406T110000
DTEND;TZID=Europe/Zagreb:20240406T110000
DTSTAMP:20260419T143824
CREATED:20240327T113834Z
LAST-MODIFIED:20240327T113834Z
UID:10050-1712401200-1712401200@kucaarsen.hr
SUMMARY:Bubamarac: Riba duginih boja
DESCRIPTION:Kazalište lutaka Zadar u Kuću umjetnosti Arsen donosi predstavu ‘Riba duginih boja’ koju izvode glumci Ana Cmrečnjak\, Gabrijela Meštrović Maštruko\, Lino Brozić i Josip Mihatov. \nDuboko\, duboko\, na najdubljem morskom dnu živi ribica Srebrica\, neobično lijepa i svjetlucava. Ona pliva polako\, presijava se u svim duginim bojama\, sva puna sebe\, poprilično umišljena i gruba. Ne pada joj napamet svoje čudesno lijepe ljuskice ni sa kime dijeliti\, pa se druge ribice ne žele s njom ni družiti. Ali svatko od nas želi društvo\, prijatelje\, igru\, veselje. I zato će Srebrica skupiti svu hrabrost i otići mudroj hobotnici Osmokraki po savjet!\nKad sazna da je “dijeliti – lekcija važna još od vrtića\, iz svakog crtića”\, neće joj biti drago\, ali što je tu je\, svaki dan učimo i rastemo i\, iako nam ponekad nije lako\, isprobavamo nove stvari.\nUpoznajmo raka Roka\, kita Tita\, meduzu Suzu\, trlju Olju i brojna druga morska stvorenja koji znaju ono što je najvažnije: “Sreća se množi kad s drugima dijeliš!” \n(Tekst: Maja Katić) \n  \n\nDramatizacija: Maja Katić \nRežija: Renata Carola Gatica \nGlazba i tekst pjesama: Ivana Đula i Luka Vrbanić \nLikovnost predstave: Alena Pavlović \n  \n\nULAZNICE\nCijena: 3\,00 € (22\,60 kn) \nDostupne online i na blagajni Kuće umjetnosti Arsen. \n\n		\n		\n			\n				\n			\n			\n				\n			\n			\n				\n			\n		\n\nO BUBAMARCU\nBubamarac\, Arsenov program za djecu i mlade na rasporedu je vikendom od 11 sati\, a na rasporedu su predstave\, dječji filmovi i ostali programi uz puno smijeha i dobre zabave.
URL:https://kucaarsen.hr/event/bubamarac-riba-duginih-boja/
LOCATION:Kuća umjetnosti Arsen\, Obala hrvatske mornarice 1\, Šibenik\, 22000
CATEGORIES:Djeca i mladi,Kazalište
ATTACH;FMTTYPE=image/jpeg:https://kucaarsen.hr/wp-content/uploads/2024/03/RIBA-DUGINIH-BOJA.jpg
GEO:43.7324192;15.8902935
X-APPLE-STRUCTURED-LOCATION;VALUE=URI;X-ADDRESS=Kuća umjetnosti Arsen Obala hrvatske mornarice 1 Šibenik 22000;X-APPLE-RADIUS=500;X-TITLE=Obala hrvatske mornarice 1:geo:15.8902935,43.7324192
END:VEVENT
END:VCALENDAR