BEGIN:VCALENDAR
VERSION:2.0
PRODID:-//Kuća umjetnosti Arsen - ECPv5.5.0//NONSGML v1.0//EN
CALSCALE:GREGORIAN
METHOD:PUBLISH
X-WR-CALNAME:Kuća umjetnosti Arsen
X-ORIGINAL-URL:https://kucaarsen.hr
X-WR-CALDESC:Događaji za Kuća umjetnosti Arsen
BEGIN:VTIMEZONE
TZID:Europe/Zagreb
BEGIN:DAYLIGHT
TZOFFSETFROM:+0100
TZOFFSETTO:+0200
TZNAME:CEST
DTSTART:20250330T010000
END:DAYLIGHT
BEGIN:STANDARD
TZOFFSETFROM:+0200
TZOFFSETTO:+0100
TZNAME:CET
DTSTART:20251026T010000
END:STANDARD
END:VTIMEZONE
BEGIN:VEVENT
DTSTART;TZID=Europe/Zagreb:20250215T110000
DTEND;TZID=Europe/Zagreb:20250215T110000
DTSTAMP:20260424T173938
CREATED:20250109T102531Z
LAST-MODIFIED:20250109T102531Z
UID:11155-1739617200-1739617200@kucaarsen.hr
SUMMARY:Bubamarac: Priča bez veze
DESCRIPTION:Predstava Priča bez veze Teatra Poco Loco stiže u Kuću umjetnosti Arsen u subotu 15. veljače u sklopu programa Bubamarac. \nO PREDSTAVI:  \nTri izvođača\, glumac\, glumica i glazbenik igraju se… eto tako\, bez nekog posebnog razloga (da ne kažemo bez veze jer – ni jedna igra nikad nije bez veze). Naravno\, pravila se drže\, sve je po propisima igre\, kazališta\, glazbe i vrtića! Ali igra raste\, razvija se\, ide u svom smjeru sve dok ne prevrši svaku mjeru. Da\, da\, čak i ako su se svi držali propisa\, zamislite! Najmudriji od svih\, Mali Kralj mora uvesti red. Kako? Treba se vratiti unatrag. I tako doznajemo: Nije lako ni medvjedu ni vrapcu\, ni psu ni vatrogascu! Umjesto da mašemo propisom pred nosom\, trebamo popričati\, hrabro izgovoriti što svatko želi i zašto\, ma bili mi ljudi ili životinje\, djeca ili odrasli. Priča bez veze najmlađima govori o suosjećanju za druge\, o važnosti slušanja tuđe priče\, ali i o hrabrosti da sami izrazimo svoje misli i osjećaje. Jer bez toga – svaka priča je jedna obična priča bez veze! \nTeatar Poco Loco svoju novu predstavu radi na temelju predivne slikovnice “Priča bez veze” Ante Zaninovića\, legendarnog autora animiranih filmova. U pomalo zaboravljenoj slikovnici (kojoj prethodi i animirani film u produkciji Zagreb filma) pronašli smo zaigrani Poco Loco duh koji spaja likovnost\, glazbu\, humor i predstavlja pravi potencijal za glumačku igru. \nRežija: Maja Katić\nDramatizacija: Maja Katić i Dunja Fajdić prema istoimenoj slikovnici Ante Zaninovića\nGlazba: Frederic Lanz i Nikola Nedić\nScenografija i kostimografija: Renata Carola Gatica\nFotografije: Krešimir Šarić (interijer)\, Marko Delić (eksterijer) \nIgraju: Zrinka Kušević\, Nikola Nedić i Frederic Lanz \nTrajanje: 35 min\nUzrast: 5+ \nULAZNICE \nZa Klub prijatelja 3\,00€/ redovna cijena 4\,00€  \nUlaznice po redovnoj cijeni dostupne su online i na blagajni Kuće umjetnosti Arsen. \nČlanovi  Kluba prijatelja popust ostvaruju uz predočenje važeće članske iskaznice na blagajni Kuće umjetnosti Arsen.
URL:https://kucaarsen.hr/event/bubamarac-prica-bez-veze/
LOCATION:Kuća umjetnosti Arsen\, Obala hrvatske mornarice 1\, Šibenik\, 22000
CATEGORIES:Djeca i mladi,Kazalište
ATTACH;FMTTYPE=image/jpeg:https://kucaarsen.hr/wp-content/uploads/2025/01/271848298_2973994179483965_4940632928298018145_n-682x1024cc.jpg
GEO:43.7324192;15.8902935
X-APPLE-STRUCTURED-LOCATION;VALUE=URI;X-ADDRESS=Kuća umjetnosti Arsen Obala hrvatske mornarice 1 Šibenik 22000;X-APPLE-RADIUS=500;X-TITLE=Obala hrvatske mornarice 1:geo:15.8902935,43.7324192
END:VEVENT
END:VCALENDAR