BEGIN:VCALENDAR
VERSION:2.0
PRODID:-//Kuća umjetnosti Arsen - ECPv5.5.0//NONSGML v1.0//EN
CALSCALE:GREGORIAN
METHOD:PUBLISH
X-WR-CALNAME:Kuća umjetnosti Arsen
X-ORIGINAL-URL:https://kucaarsen.hr
X-WR-CALDESC:Događaji za Kuća umjetnosti Arsen
BEGIN:VTIMEZONE
TZID:Europe/Zagreb
BEGIN:DAYLIGHT
TZOFFSETFROM:+0100
TZOFFSETTO:+0200
TZNAME:CEST
DTSTART:20250330T010000
END:DAYLIGHT
BEGIN:STANDARD
TZOFFSETFROM:+0200
TZOFFSETTO:+0100
TZNAME:CET
DTSTART:20251026T010000
END:STANDARD
END:VTIMEZONE
BEGIN:VEVENT
DTSTART;TZID=Europe/Zagreb:20250202T110000
DTEND;TZID=Europe/Zagreb:20250202T110000
DTSTAMP:20260423T233610
CREATED:20250128T080339Z
LAST-MODIFIED:20250130T090317Z
UID:11196-1738494000-1738494000@kucaarsen.hr
SUMMARY:Bubamarac: Mufasa: Kralj lavova
DESCRIPTION:Mufasa: Kralj lavova\, r. Barry Jenkins\, SAD\, 2024.\, 120′\, animirani\, sinkr. \nMufasa\, voljeni i neprežaljeni kralj Ponosne Zemlje iz kultnog animiranog filma Kralj lavova\, oživljava na velikom platnu u epskom animiranom spektaklu koji nas vraća u prošlost\, u razdoblje Mufasina odrastanja. U ovom dugoiščekivanom ostvarenju\, Rafiki prepričava maloj lavici Kiari\, kćeri Simbe i Nale\, legendu o Mufasi. Priča se vraća u prošlost\, prikazujući Mufasu kao izgubljeno i usamljeno siroče\, sve dok ne upozna suosjećajnog lava Taku\, nasljednika kraljevske loze. Taj susret pokreće putovanje grupe neobičnih prijatelja koji istražuju život\, a njihova će se veza testirati dok zajedno pokušavaju izbjeći prijeteću opasnost. Film Mufasa: kralj lavova\, koji kombinira tehnike snimanja uživo s fotorealističnom računalno generiranom slikom\, režirao je oskarovac Barry Jenkins (Mjesečina / Moonlight\, 2016.). \n  \nULAZNICE: 3 € \nUlaznice su dostupne online i na blagajni Kuće umjetnosti Arsen. \n 
URL:https://kucaarsen.hr/event/bubamarac-mufasa-kralj-lavova-2/
LOCATION:Kuća umjetnosti Arsen\, Obala hrvatske mornarice 1\, Šibenik\, 22000
CATEGORIES:Djeca i mladi,Film
ATTACH;FMTTYPE=image/jpeg:https://kucaarsen.hr/wp-content/uploads/2024/11/Mufasa.jpg
GEO:43.7324192;15.8902935
X-APPLE-STRUCTURED-LOCATION;VALUE=URI;X-ADDRESS=Kuća umjetnosti Arsen Obala hrvatske mornarice 1 Šibenik 22000;X-APPLE-RADIUS=500;X-TITLE=Obala hrvatske mornarice 1:geo:15.8902935,43.7324192
END:VEVENT
END:VCALENDAR