BEGIN:VCALENDAR
VERSION:2.0
PRODID:-//Kuća umjetnosti Arsen - ECPv5.5.0//NONSGML v1.0//EN
CALSCALE:GREGORIAN
METHOD:PUBLISH
X-WR-CALNAME:Kuća umjetnosti Arsen
X-ORIGINAL-URL:https://kucaarsen.hr
X-WR-CALDESC:Događaji za Kuća umjetnosti Arsen
BEGIN:VTIMEZONE
TZID:Europe/Zagreb
BEGIN:DAYLIGHT
TZOFFSETFROM:+0100
TZOFFSETTO:+0200
TZNAME:CEST
DTSTART:20230326T010000
END:DAYLIGHT
BEGIN:STANDARD
TZOFFSETFROM:+0200
TZOFFSETTO:+0100
TZNAME:CET
DTSTART:20231029T010000
END:STANDARD
END:VTIMEZONE
BEGIN:VEVENT
DTSTART;TZID=Europe/Zagreb:20231209T110000
DTEND;TZID=Europe/Zagreb:20231209T110000
DTSTAMP:20260419T192032
CREATED:20231129T095940Z
LAST-MODIFIED:20231204T084403Z
UID:9308-1702119600-1702119600@kucaarsen.hr
SUMMARY:Bubamarac: Mrazograd - RASPRODANO!
DESCRIPTION:‘Mrazograd’ je predstava Kazališne udruge Virko koju gledamo u Kući umjetnosti Arsen ususret Božiću. \nMali glumci povest će nas u pravu zimsku avanturu\, a u predstavi mogu uživati djeca od 3 do 10 godina\, kao i odrasli u njihovoj pratnji! \n  \nULAZNICE\nCijena: 3\,00 € (22\,60 kn) \nDostupne online i na blagajni Kuće umjetnosti Arsen. \n  \nO BUBAMARCU\nBubamarac\, Arsenov program za djecu i mlade na rasporedu je vikendom od 11 sati\, a na rasporedu su predstave\, dječji filmovi i ostali programi uz puno smijeha i dobre zabave.
URL:https://kucaarsen.hr/event/bubamarac-mrazograd-2/
LOCATION:Kuća umjetnosti Arsen\, Obala hrvatske mornarice 1\, Šibenik\, 22000
CATEGORIES:Djeca i mladi,Kazalište
ATTACH;FMTTYPE=image/jpeg:https://kucaarsen.hr/wp-content/uploads/2023/11/9.12.-Virko-Mrazograd-Repriza.jpg
GEO:43.7324192;15.8902935
X-APPLE-STRUCTURED-LOCATION;VALUE=URI;X-ADDRESS=Kuća umjetnosti Arsen Obala hrvatske mornarice 1 Šibenik 22000;X-APPLE-RADIUS=500;X-TITLE=Obala hrvatske mornarice 1:geo:15.8902935,43.7324192
END:VEVENT
END:VCALENDAR