BEGIN:VCALENDAR
VERSION:2.0
PRODID:-//Kuća umjetnosti Arsen - ECPv5.5.0//NONSGML v1.0//EN
CALSCALE:GREGORIAN
METHOD:PUBLISH
X-WR-CALNAME:Kuća umjetnosti Arsen
X-ORIGINAL-URL:https://kucaarsen.hr
X-WR-CALDESC:Događaji za Kuća umjetnosti Arsen
BEGIN:VTIMEZONE
TZID:Europe/Zagreb
BEGIN:DAYLIGHT
TZOFFSETFROM:+0100
TZOFFSETTO:+0200
TZNAME:CEST
DTSTART:20230326T010000
END:DAYLIGHT
BEGIN:STANDARD
TZOFFSETFROM:+0200
TZOFFSETTO:+0100
TZNAME:CET
DTSTART:20231029T010000
END:STANDARD
END:VTIMEZONE
BEGIN:VEVENT
DTSTART;TZID=Europe/Zagreb:20230115T110000
DTEND;TZID=Europe/Zagreb:20230115T110000
DTSTAMP:20260425T025340
CREATED:20221230T095944Z
LAST-MODIFIED:20230103T081928Z
UID:7521-1673780400-1673780400@kucaarsen.hr
SUMMARY:Bubamarac – Lil\, Lil\, krokodil!
DESCRIPTION:__________________________________________________________________________________ \nULAZNICE: 2\,00 € (15\,07 kn) \n_________________________________________________________________________________ \nr. Will Speck\, Josh Gordon\, SAD\, 2022.\, 115′\, sinkronizirano \nProgram Bubamarac u Kuću umjetnosti Arsen donosi film Lil\, Lil\, krokodil! \nLil\, Lil\, krokodil je igrano-animirana glazbena komedija temeljena na književnom serijalu Bernarda Wabera. Prati obitelj Primm koja je upravo doselila u New York. Njihov sin Josh bori se sa prilagodbom novoj školi i novim prijateljima\, no sve se promijeni kada otkrije Lila – raspjevanog krokodila koji obožava kupke\, kavijar i odličnu glazbu. Lil živi u potkrovlju Joshovog novog doma\, njih dvojica postaju najbolji prijatelji\, no kada Lilov opstanak postane ugrožen zbog zlog susjeda gospodina Grumpsa\, obitelj Primm morat će se udružiti s Lilovim karizmatičnim vlasnikom Hectorom P. Valentijem kako bi pokazali svijetu da obitelj dolazi iz najneočekivanijih mjesta i da nema ništa čudnoga u velikom raspjevanom krokodilu s još većom osobnošću. \nULAZNICE: 2\,00€ (15\,07 kn) \nDostupne online\, u City Pointu i na blagajni Kuće umjetnosti Arsen.
URL:https://kucaarsen.hr/event/bubamarac-lil-lil-krokodil/
LOCATION:Kuća umjetnosti Arsen\, Obala hrvatske mornarice 1\, Šibenik\, 22000
CATEGORIES:Djeca i mladi,Film
ATTACH;FMTTYPE=image/jpeg:https://kucaarsen.hr/wp-content/uploads/2022/12/4.jpg
GEO:43.7324192;15.8902935
X-APPLE-STRUCTURED-LOCATION;VALUE=URI;X-ADDRESS=Kuća umjetnosti Arsen Obala hrvatske mornarice 1 Šibenik 22000;X-APPLE-RADIUS=500;X-TITLE=Obala hrvatske mornarice 1:geo:15.8902935,43.7324192
END:VEVENT
END:VCALENDAR