BEGIN:VCALENDAR
VERSION:2.0
PRODID:-//Kuća umjetnosti Arsen - ECPv5.5.0//NONSGML v1.0//EN
CALSCALE:GREGORIAN
METHOD:PUBLISH
X-WR-CALNAME:Kuća umjetnosti Arsen
X-ORIGINAL-URL:https://kucaarsen.hr
X-WR-CALDESC:Događaji za Kuća umjetnosti Arsen
BEGIN:VTIMEZONE
TZID:Europe/Zagreb
BEGIN:DAYLIGHT
TZOFFSETFROM:+0100
TZOFFSETTO:+0200
TZNAME:CEST
DTSTART:20230326T010000
END:DAYLIGHT
BEGIN:STANDARD
TZOFFSETFROM:+0200
TZOFFSETTO:+0100
TZNAME:CET
DTSTART:20231029T010000
END:STANDARD
END:VTIMEZONE
BEGIN:VEVENT
DTSTART;TZID=Europe/Zagreb:20231223T110000
DTEND;TZID=Europe/Zagreb:20231223T110000
DTSTAMP:20260419T173013
CREATED:20231215T145349Z
LAST-MODIFIED:20231215T145349Z
UID:9384-1703329200-1703329200@kucaarsen.hr
SUMMARY:Bubamarac: Full - cool Djedica
DESCRIPTION:Stiže nam jedan neobičan Djedica\, stiže nam “Full cool Djedica“. Govori se da je iz Finske\, zato je vrlo kulturan i fin\, a uz to i darežljiv kao Škot\, dobar kao kruh sa sedam kora\, i zna ama baš sve\, kao da je rođen u Šibeniku… \nOva predstava za male Šibenčane od 4 do 10 godina je one man show jer je za tekst\, režiju\, dramaturgiju i izvedbu zaslužan Sergej Mioč iz kazališne udruge Virko pa će mu pomagati njegovi pomoćnici Virkići. \nNastupaju Full – cool Djedica i njegovi pomoćnici Virkići. \n  \nULAZNICE\nCijena: 3\,00 € (22\,60 kn) \nDostupne online i na blagajni Kuće umjetnosti Arsen. \n  \nO BUBAMARCU\nBubamarac\, Arsenov program za djecu i mlade na rasporedu je vikendom od 11 sati\, a na rasporedu su predstave\, dječji filmovi i ostali programi uz puno smijeha i dobre zabave.
URL:https://kucaarsen.hr/event/bubamarac-full-cool-djedica/
LOCATION:Kuća umjetnosti Arsen\, Obala hrvatske mornarice 1\, Šibenik\, 22000
CATEGORIES:Djeca i mladi,Kazalište
ATTACH;FMTTYPE=image/jpeg:https://kucaarsen.hr/wp-content/uploads/2023/12/VAB9687-scaled-e1704700431448.jpg
GEO:43.7324192;15.8902935
X-APPLE-STRUCTURED-LOCATION;VALUE=URI;X-ADDRESS=Kuća umjetnosti Arsen Obala hrvatske mornarice 1 Šibenik 22000;X-APPLE-RADIUS=500;X-TITLE=Obala hrvatske mornarice 1:geo:15.8902935,43.7324192
END:VEVENT
END:VCALENDAR