BEGIN:VCALENDAR
VERSION:2.0
PRODID:-//Kuća umjetnosti Arsen - ECPv5.5.0//NONSGML v1.0//EN
CALSCALE:GREGORIAN
METHOD:PUBLISH
X-WR-CALNAME:Kuća umjetnosti Arsen
X-ORIGINAL-URL:https://kucaarsen.hr
X-WR-CALDESC:Događaji za Kuća umjetnosti Arsen
BEGIN:VTIMEZONE
TZID:Europe/Zagreb
BEGIN:DAYLIGHT
TZOFFSETFROM:+0100
TZOFFSETTO:+0200
TZNAME:CEST
DTSTART:20250330T010000
END:DAYLIGHT
BEGIN:STANDARD
TZOFFSETFROM:+0200
TZOFFSETTO:+0100
TZNAME:CET
DTSTART:20251026T010000
END:STANDARD
END:VTIMEZONE
BEGIN:VEVENT
DTSTART;TZID=Europe/Zagreb:20251116T110000
DTEND;TZID=Europe/Zagreb:20251116T110000
DTSTAMP:20260420T071210
CREATED:20251112T075810Z
LAST-MODIFIED:20260108T012705Z
UID:12111-1763290800-1763290800@kucaarsen.hr
SUMMARY:Bubamarac: Drugi dnevnik Pauline P.
DESCRIPTION:Drugi dnevnik Pauline P.\, r. Neven Hitrec; Hrvatska; 2025.; 80′ \nIščekivani nastavak kinohita za djecu donosi nove maštovite zgode junakinje Pauline\, koja sada ima već jedanaest godina. Iako odrasli govore da joj je ovo “najbolji dio života”\, Paulini se uopće ne čini tako. Nova školska godina sa sobom nosi i nove izazove. U petom razredu dočekat će je profesorica Mirković\, stroga nastavnica geografije\, kao i Marta iz 5.D\, Paulinin prvi bully. Uskoro će otkriti i da njezina draga baka boluje od neizliječive bolesti. U borbi s nevoljama Paulina će se još jednom poslužiti šarmom i bujnom maštom\, i izvući jednu vrijednu pouku – da se život ne sastoji samo od pobjeda. \nNastavak ekranizacije popularnog romana književnice Sanje Polak okupio je već provjerenu ekipu iz prvog filma\, redatelja Nevena Hitreca i glumačku družinu koja\, predvođena Katjom Matković u titularnoj ulozi\, okuplja i Jakova Švarca\, Ariju Dunda\, Ramonu Ivanda\, Toma Rushaidata\, Juditu Franković Brdar\, Igora Kovača\, Borka Perića\, Vinka Kraljevića i Kseniju Marinković. Dnevnik Pauline P. najgledaniji je film na velikim platnima 2023. godine\, s 91 659 gledatelja\, a više je tjedana bio i najgledaniji film u Hrvatskoj na streaming platformi Netflix. \n  \nULAZNICE: Za Klub prijatelja 3\,50 € / redovna cijena 5 €  \nUlaznice su dostupne online i na blagajni Kuće umjetnosti Arsen. \nČlanovi  Kluba prijatelja popust ostvaruju uz predočenje važeće članske iskaznice na blagajni Kuće umjetnosti Arsen. \nKako bi djeca na zabavan način bila potaknuta na redovito sudjelovanje u predstavama i filmskim projekcijama\, osmišljen je program vjernosti Bubamarac klub o kojem više možete pročitati OVDJE. \n 
URL:https://kucaarsen.hr/event/bubamarac-drugi-dnevnik-pauline-p-2/
LOCATION:Kuća umjetnosti Arsen\, Obala hrvatske mornarice 1\, Šibenik\, 22000
CATEGORIES:Djeca i mladi,Film
ATTACH;FMTTYPE=image/jpeg:https://kucaarsen.hr/wp-content/uploads/2025/10/drugi-dnevnik-pauline-p.jpg
GEO:43.7324192;15.8902935
X-APPLE-STRUCTURED-LOCATION;VALUE=URI;X-ADDRESS=Kuća umjetnosti Arsen Obala hrvatske mornarice 1 Šibenik 22000;X-APPLE-RADIUS=500;X-TITLE=Obala hrvatske mornarice 1:geo:15.8902935,43.7324192
END:VEVENT
END:VCALENDAR