BEGIN:VCALENDAR
VERSION:2.0
PRODID:-//Kuća umjetnosti Arsen - ECPv5.5.0//NONSGML v1.0//EN
CALSCALE:GREGORIAN
METHOD:PUBLISH
X-WR-CALNAME:Kuća umjetnosti Arsen
X-ORIGINAL-URL:https://kucaarsen.hr
X-WR-CALDESC:Događaji za Kuća umjetnosti Arsen
BEGIN:VTIMEZONE
TZID:Europe/Zagreb
BEGIN:DAYLIGHT
TZOFFSETFROM:+0100
TZOFFSETTO:+0200
TZNAME:CEST
DTSTART:20250330T010000
END:DAYLIGHT
BEGIN:STANDARD
TZOFFSETFROM:+0200
TZOFFSETTO:+0100
TZNAME:CET
DTSTART:20251026T010000
END:STANDARD
END:VTIMEZONE
BEGIN:VEVENT
DTSTART;TZID=Europe/Zagreb:20251130T110000
DTEND;TZID=Europe/Zagreb:20251130T110000
DTSTAMP:20260420T083732
CREATED:20251005T133018Z
LAST-MODIFIED:20251128T123647Z
UID:11890-1764500400-1764500400@kucaarsen.hr
SUMMARY:Bubamarac: Divljaci
DESCRIPTION:Divljaci\, r. Claude Barras; Švicarska\, Francuska\, Belgija; 2024.; 87′ \nNakon nagrađivanog filma Moj život kao tikvica švicarski autor Claude Barras isporučio je novu dirljivu animiranu priču. Divljaci gledatelje odvode u bespuća prašume na Borneu\, koju od deforestacije pokušava spasiti skupina lokalaca predvođena djevojčicom Kériom. Noseći snažnu ekološku poruku\, Divljaci su – kao i prethodni\, za Oscara nominiran Barrasov film – snimljeni u tehnici lutka-filma. \nGlavna junakinja\, djevojčica Keria\, živi s ocem na Borneu\, na rubu džungle. Kada spasi malog orangutana Oshija\, pridružuje se svom rođaku Selaïu u putovanju koje je vodi u srce šume i duhovni svijet nomadskog plemena Penan. Kada se njihov zeleni dom nađe u opasnosti od drvne korporacije\, odlučni trojac udružit će se u borbi za spas džungle. Divljaci kroz oči mladih junaka otvaraju važne ekološke teme i potiču djecu i mlade na promišljanje o zaštiti prirode i važnosti očuvanja prašuma i njihovih stanovnika. \nProjekcija je dio programa ZFF putuje koji na platna diljem Kino mreže donosi ostvarenja sa Zagreb Film Festivala\, a nakon projekcije slijedi moderirani razgovor s filmskom edukatoricom Anom Marijom Marinov.\n \n  \nULAZNICE: Za Klub prijatelja 3\,50 € / redovna cijena 5 €  \nUlaznice su dostupne online i na blagajni Kuće umjetnosti Arsen. \nČlanovi  Kluba prijatelja popust ostvaruju uz predočenje važeće članske iskaznice na blagajni Kuće umjetnosti Arsen. \nKako bi djeca na zabavan način bila potaknuta na redovito sudjelovanje u predstavama i filmskim projekcijama\, osmišljen je program vjernosti Bubamarac klub o kojem više možete pročitati OVDJE. \n 
URL:https://kucaarsen.hr/event/bubamarac-divljaci/
LOCATION:Kuća umjetnosti Arsen\, Obala hrvatske mornarice 1\, Šibenik\, 22000
CATEGORIES:Djeca i mladi,Film
ATTACH;FMTTYPE=image/jpeg:https://kucaarsen.hr/wp-content/uploads/2025/10/divljaci.jpg
GEO:43.7324192;15.8902935
X-APPLE-STRUCTURED-LOCATION;VALUE=URI;X-ADDRESS=Kuća umjetnosti Arsen Obala hrvatske mornarice 1 Šibenik 22000;X-APPLE-RADIUS=500;X-TITLE=Obala hrvatske mornarice 1:geo:15.8902935,43.7324192
END:VEVENT
END:VCALENDAR