BEGIN:VCALENDAR
VERSION:2.0
PRODID:-//Kuća umjetnosti Arsen - ECPv5.5.0//NONSGML v1.0//EN
CALSCALE:GREGORIAN
METHOD:PUBLISH
X-WR-CALNAME:Kuća umjetnosti Arsen
X-ORIGINAL-URL:https://kucaarsen.hr
X-WR-CALDESC:Događaji za Kuća umjetnosti Arsen
BEGIN:VTIMEZONE
TZID:Europe/Zagreb
BEGIN:DAYLIGHT
TZOFFSETFROM:+0100
TZOFFSETTO:+0200
TZNAME:CEST
DTSTART:20240331T010000
END:DAYLIGHT
BEGIN:STANDARD
TZOFFSETFROM:+0200
TZOFFSETTO:+0100
TZNAME:CET
DTSTART:20241027T010000
END:STANDARD
END:VTIMEZONE
BEGIN:VEVENT
DTSTART;TZID=Europe/Zagreb:20240413T110000
DTEND;TZID=Europe/Zagreb:20240413T110000
DTSTAMP:20260419T161140
CREATED:20240327T114658Z
LAST-MODIFIED:20240327T114658Z
UID:10056-1713006000-1713006000@kucaarsen.hr
SUMMARY:Bubamarac: Clap Clap
DESCRIPTION:‘Clap Clap’ je predstava s elementima mimike u kojoj skladatelji i izvođači Anselmo Luisi i Giulio Settimo pomoću svog tijela – kroz pljeskanje\, lupanje prsa i obraza\, pucketanje prstiju i onomatopeju – dočaravaju publici razne scene. \n‘Clap Clap’ je zvuk dvije ruke koje igraju\, dvije ruke koje daju pet\, dvije ruke koje\, aplaudiraju na kraju predstave. No\, ‘clap clap’ također može biti početak glazbenog otkrića\, dvije ruke koje otkrivaju da tijelo može proizvesti ritam i stvaranje glazbe. \nU parku punom životinja\, ptica\, pasa\, mačaka i patki\, dva se dječaka susretnu. U početku se pokušaju igrati\, ali ubrzo igra postaje izazov: igraju lovice\, zatim se natječu tko može dalje baciti kameni ili pak podići onaj najteži. Na kraju otkrivaju da igranje jedan protiv drugog nije toliko zabavno kao igranje zajedno. Tada daju život novim likovima igrajući se koljenom ili crtajući veliko lice na lakat. No\, ono što ih ujedinjuje najviše je otkriće stvaranja glazbe tijelom: iz jednostavnog lupanja dlanova i stopala nastaje veliki koncert! Kroz zajedničku igru dva dječaka na kraju postaju veliki prijatelji. \nNa pozornici nema scenografije\, postoje samo dva glumca. No\, park je tu\, sve životinje su tu\, a sve zahvaljujući mimici i kontinuiranoj glazbi koja se sastoji od zvukova i onomatopeja. Tako da ‘njik njok’ postaje škripa ljuljačkom\, ‘lop clop’ koraci utrke\, ‘Flip flop’ zvuk bacanja kamena… \nNa kraju predstave dva glumca vode publiku\, mlade i stare\, da otkriju glazbeni potencijal svoga tijela i sudjeluju u stvaranju zvuka! \n\nPredstava traje 45 minuta i primjerena je djeci od 3 godine naviše. \n  \n\nULAZNICE\nCijena: 3\,00 € (22\,60 kn) \nDostupne online i na blagajni Kuće umjetnosti Arsen. \n\nO BUBAMARCU\nBubamarac\, Arsenov program za djecu i mlade na rasporedu je vikendom od 11 sati\, a na rasporedu su predstave\, dječji filmovi i ostali programi uz puno smijeha i dobre zabave.
URL:https://kucaarsen.hr/event/bubamarac-clap-clap/
LOCATION:Kuća umjetnosti Arsen\, Obala hrvatske mornarice 1\, Šibenik\, 22000
CATEGORIES:Djeca i mladi,Kazalište
ATTACH;FMTTYPE=image/jpeg:https://kucaarsen.hr/wp-content/uploads/2024/03/CLAP-CLAP.jpg
GEO:43.7324192;15.8902935
X-APPLE-STRUCTURED-LOCATION;VALUE=URI;X-ADDRESS=Kuća umjetnosti Arsen Obala hrvatske mornarice 1 Šibenik 22000;X-APPLE-RADIUS=500;X-TITLE=Obala hrvatske mornarice 1:geo:15.8902935,43.7324192
END:VEVENT
END:VCALENDAR