BEGIN:VCALENDAR
VERSION:2.0
PRODID:-//Kuća umjetnosti Arsen - ECPv5.5.0//NONSGML v1.0//EN
CALSCALE:GREGORIAN
METHOD:PUBLISH
X-WR-CALNAME:Kuća umjetnosti Arsen
X-ORIGINAL-URL:https://kucaarsen.hr
X-WR-CALDESC:Događaji za Kuća umjetnosti Arsen
BEGIN:VTIMEZONE
TZID:Europe/Zagreb
BEGIN:DAYLIGHT
TZOFFSETFROM:+0100
TZOFFSETTO:+0200
TZNAME:CEST
DTSTART:20240331T010000
END:DAYLIGHT
BEGIN:STANDARD
TZOFFSETFROM:+0200
TZOFFSETTO:+0100
TZNAME:CET
DTSTART:20241027T010000
END:STANDARD
END:VTIMEZONE
BEGIN:VEVENT
DTSTART;TZID=Europe/Zagreb:20240113T110000
DTEND;TZID=Europe/Zagreb:20240113T110000
DTSTAMP:20260419T193916
CREATED:20240102T105142Z
LAST-MODIFIED:20240110T084311Z
UID:9432-1705143600-1705143600@kucaarsen.hr
SUMMARY:Bubamarac: Ježeva kućica
DESCRIPTION:Ježeva kućica\, Kazalište Smješko\, Zagreb\, dob: 3+ \nJežurka Ježić ponovno luta! \nKD “Smješko” pripremilo je za svu djecu predškolskog i nižeg školskog uzrasta predstavu o Ježurki Ježiću\, slavnome lovcu\, prema svima poznatom tekstu Branka Ćopića: “Ježeva kućica”. Predstava je mali mjuzikl\, a glazba je originalna glazba iz audio zapisa\, nastalog prije 20 godina\, na kojoj su odrasle mnoge generacije.\nOriginalni tekst\, sjajni glumci i lutke razlog su više zašto ovu predstavu vrijedi pogledati. \nNa lak\, igriv način djeca zajedno s poznatim likovima odlaze u svijet šume koja nije samo ispričana priča\, ona je i puna korisnih savjeta o dobroti\, o ljubavi prema svom domu\, tako da uz zabavu djeca upoznaju svijet kazališta i književnosti na neposredan način. \nTrajanje predstave: 45 min \nPrema istoimenoj knjizi Branka Ćopića\nRedateljica: Tea Gjergjizi\nScena\, lutke i kostimi: Gordana Krebelj\nGlazba: Hrvoje Hegedušić\nKorepetitor: Ljerka Šemeš \nGlume:\nMaja Kovač/Mirta Zečević\nHelena Kalinić\nHrvoje Zalar/Danijel Radečić \nULAZNICE\nCijena: 3\,00 € (22\,60 kn) \nDostupne online i na blagajni Kuće umjetnosti Arsen. \n \nO BUBAMARCU\nBubamarac\, Arsenov program za djecu i mlade na rasporedu je vikendom od 11 sati\, a na rasporedu su predstave\, dječji filmovi i ostali programi uz puno smijeha i dobre zabave.
URL:https://kucaarsen.hr/event/bubamarac-carobna-kapa/
LOCATION:Kuća umjetnosti Arsen\, Obala hrvatske mornarice 1\, Šibenik\, 22000
CATEGORIES:Djeca i mladi,Kazalište
ATTACH;FMTTYPE=image/jpeg:https://kucaarsen.hr/wp-content/uploads/2023/12/VAB9687-scaled-e1704700431448.jpg
GEO:43.7324192;15.8902935
X-APPLE-STRUCTURED-LOCATION;VALUE=URI;X-ADDRESS=Kuća umjetnosti Arsen Obala hrvatske mornarice 1 Šibenik 22000;X-APPLE-RADIUS=500;X-TITLE=Obala hrvatske mornarice 1:geo:15.8902935,43.7324192
END:VEVENT
END:VCALENDAR