BEGIN:VCALENDAR
VERSION:2.0
PRODID:-//Kuća umjetnosti Arsen - ECPv5.5.0//NONSGML v1.0//EN
CALSCALE:GREGORIAN
METHOD:PUBLISH
X-WR-CALNAME:Kuća umjetnosti Arsen
X-ORIGINAL-URL:https://kucaarsen.hr
X-WR-CALDESC:Događaji za Kuća umjetnosti Arsen
BEGIN:VTIMEZONE
TZID:Europe/Zagreb
BEGIN:DAYLIGHT
TZOFFSETFROM:+0100
TZOFFSETTO:+0200
TZNAME:CEST
DTSTART:20240331T010000
END:DAYLIGHT
BEGIN:STANDARD
TZOFFSETFROM:+0200
TZOFFSETTO:+0100
TZNAME:CET
DTSTART:20241027T010000
END:STANDARD
END:VTIMEZONE
BEGIN:VEVENT
DTSTART;TZID=Europe/Zagreb:20240217T110000
DTEND;TZID=Europe/Zagreb:20240217T110000
DTSTAMP:20260419T155838
CREATED:20240126T095847Z
LAST-MODIFIED:20240126T095946Z
UID:9600-1708167600-1708167600@kucaarsen.hr
SUMMARY:Bubamarac: Čarobna kapa
DESCRIPTION:Čarobna kapa je interaktivna komična priča u stilu ‘commedie dell arte’\, nastala prema adaptaciji bajke braće Grimm.\n\nOvo je priča o klasičnoj borbi dobra i zla – kao što i svaka bajka treba biti\, a u Arsenu je izvode glumci Teatra Barakuda. \n\n\nDvoje putujućih glumaca Mateo i Klementina ispričati će nam jednu od svojih najuzbudljivijih bajki  – o jednom sasvim običnom Petru koji na putu do svog sna prolazi kroz avanturu zajedno s jednom kapom koju dobiva na poklon. Ali to nije obična Kapa! \n\n\nTo je kapa koja stvara zlatne novčiće\, a našeg Petra će naučiti puno toga – između ostalog da nije u novčićima sreća. I da nije zlato sve što sja. Sreća je možda u pravednosti i dobroti i u jednoj sasvim običnoj Giti koja se našla u Petrovoj avanturi. \n\n\nPredstava šalje univerzalnu poruku da se dobro dobrim vraća\, a primjerena je uzrastu od 5 godina naviše. \n  \n\n\nO PREDSTAVI:  \n\n\nAutor: Mihovio Ontini \n\n\nDramaturgija i režija: Boris Kovačević \n\n\nIzbor glazbe: Boris Kovačević \n\n\nAutor songa: Vlatko Panić i Beng Beng Beng grupa \, produkcija Hrvoje Prskalo i ZG Zagreb studio \n\n\nIgraju: Sanja Sumrak Radoš ili Ana Marija Štefanec i Jakov Jozić \n\n\n  \n\nULAZNICE\nCijena: 3\,00 € (22\,60 kn) \nDostupne online i na blagajni Kuće umjetnosti Arsen. \n  \nO BUBAMARCU\nBubamarac\, Arsenov program za djecu i mlade na rasporedu je vikendom od 11 sati\, a na rasporedu su predstave\, dječji filmovi i ostali programi uz puno smijeha i dobre zabave.
URL:https://kucaarsen.hr/event/bubamarac-carobna-kapa-2/
LOCATION:Kuća umjetnosti Arsen\, Obala hrvatske mornarice 1\, Šibenik\, 22000
CATEGORIES:Djeca i mladi,Kazalište
ATTACH;FMTTYPE=image/jpeg:https://kucaarsen.hr/wp-content/uploads/2024/01/carobna-kapa-teatar-barakuda.jpg
GEO:43.7324192;15.8902935
X-APPLE-STRUCTURED-LOCATION;VALUE=URI;X-ADDRESS=Kuća umjetnosti Arsen Obala hrvatske mornarice 1 Šibenik 22000;X-APPLE-RADIUS=500;X-TITLE=Obala hrvatske mornarice 1:geo:15.8902935,43.7324192
END:VEVENT
END:VCALENDAR