BEGIN:VCALENDAR
VERSION:2.0
PRODID:-//Kuća umjetnosti Arsen - ECPv5.5.0//NONSGML v1.0//EN
CALSCALE:GREGORIAN
METHOD:PUBLISH
X-WR-CALNAME:Kuća umjetnosti Arsen
X-ORIGINAL-URL:https://kucaarsen.hr
X-WR-CALDESC:Događaji za Kuća umjetnosti Arsen
BEGIN:VTIMEZONE
TZID:Europe/Zagreb
BEGIN:DAYLIGHT
TZOFFSETFROM:+0100
TZOFFSETTO:+0200
TZNAME:CEST
DTSTART:20240331T010000
END:DAYLIGHT
BEGIN:STANDARD
TZOFFSETFROM:+0200
TZOFFSETTO:+0100
TZNAME:CET
DTSTART:20241027T010000
END:STANDARD
END:VTIMEZONE
BEGIN:VEVENT
DTSTART;TZID=Europe/Zagreb:20240921T100000
DTEND;TZID=Europe/Zagreb:20240921T100000
DTSTAMP:20260420T230509
CREATED:20240916T110627Z
LAST-MODIFIED:20240920T143426Z
UID:10522-1726912800-1726912800@kucaarsen.hr
SUMMARY:Brlog
DESCRIPTION:BRLOG je interaktivna koncertna predstava za djecu i njihove odrasle. Na predstavi\nse izvodi glazba s Brlog albuma i motivira publiku na slušanje\, zajedničko\npokretanje\, plesanje i jednostavno uživanje. Ovo je format koji je teško objasniti\, a\nvrlo se jednostavno valja kroz tijelo. Brlog koncert poziva na smijeh\, igru i ugodno\npokretanje. Ulaskom u Brlog vraćamo se u tijelo\, u našu kuću i tu nam je dobro.\nPredstava je nastala iz Brlog albuma\, inovativnog interdisciplinarnog glazbenog\nalbuma čija je osnovna svrha kreativnim pristupom u radu s tijelom\, pokretom\,\nplesom i glazbom utjecati pozitivno na veću svijest o tijelu\, povezanost tijela i uma\,\nsvijesti o dahu i samome sebi\, tako Brlog nudi dragocjena znanja novim tijelima za\nveliku budućnost. \nKoncept i koreografija: Irma Unušić\nIzvedba: Vanesa Petrac\, Ivan Marojević\, Irma Unušić\nAutori glazbe: Ivan Marojević\, Vanesa Petrac\, Nastasja Štefanić Kralj\nAutorica tekstova glazbenih brojeva: Vanesa Petrac\nKostimi: Selena Gazda\, Irma Unušić\nVizual: Petra Zlonoga\nFotografije: Mirjana Pjevac\nDonacija: Earthbound sneakers\nProdukcija: SHOOMA \nPreporučena dob djece: 4 do 11 godina\nTrajanje: 45 min
URL:https://kucaarsen.hr/event/brlog/
LOCATION:Kuća umjetnosti Arsen\, Obala hrvatske mornarice 1\, Šibenik\, 22000
CATEGORIES:Djeca i mladi,Glazba,Kazalište
ATTACH;FMTTYPE=image/png:https://kucaarsen.hr/wp-content/uploads/2024/09/BRLOG_koncert_s_mrljom.png
GEO:43.7324192;15.8902935
X-APPLE-STRUCTURED-LOCATION;VALUE=URI;X-ADDRESS=Kuća umjetnosti Arsen Obala hrvatske mornarice 1 Šibenik 22000;X-APPLE-RADIUS=500;X-TITLE=Obala hrvatske mornarice 1:geo:15.8902935,43.7324192
END:VEVENT
END:VCALENDAR