BEGIN:VCALENDAR
VERSION:2.0
PRODID:-//Kuća umjetnosti Arsen - ECPv5.5.0//NONSGML v1.0//EN
CALSCALE:GREGORIAN
METHOD:PUBLISH
X-WR-CALNAME:Kuća umjetnosti Arsen
X-ORIGINAL-URL:https://kucaarsen.hr
X-WR-CALDESC:Događaji za Kuća umjetnosti Arsen
BEGIN:VTIMEZONE
TZID:Europe/Zagreb
BEGIN:DAYLIGHT
TZOFFSETFROM:+0100
TZOFFSETTO:+0200
TZNAME:CEST
DTSTART:20220327T010000
END:DAYLIGHT
BEGIN:STANDARD
TZOFFSETFROM:+0200
TZOFFSETTO:+0100
TZNAME:CET
DTSTART:20221030T010000
END:STANDARD
END:VTIMEZONE
BEGIN:VEVENT
DTSTART;TZID=Europe/Zagreb:20221014T200000
DTEND;TZID=Europe/Zagreb:20221014T200000
DTSTAMP:20260420T112124
CREATED:20220923T065439Z
LAST-MODIFIED:20221006T064257Z
UID:6799-1665777600-1665777600@kucaarsen.hr
SUMMARY:Božo Vrećo i Edin Karamazov
DESCRIPTION:ULAZNICE: 110 kn (14\,60€) / 90 kn (11\,94€)za Klub prijatelja \n\n  \nBožo Vrećo i Edin Karamazov\, dva vrhunska umjetnika svjetskog glasa\, u Arsenu će predstaviti album Lachrimae\, njihovu prvu suradnju koja donosi jedanaest sjajnih interpretacija najavljenu obradom predivne sevdalinke “Emina”.   \n\nNOVE INTERPRETACIJE STARIH STIHOVA \nBožine i Edinove interpretacije i nova čitanja kultnih pjesama stoje uz bok velikanima sevdaha i world music izričaja. Lachrimae se ne zadržava samo na našim prostorima – Božino pjevanje uz Edinovu gitaru i lutnju izbrisali su granice zbliživši dalmatinsku\, bosanskohercegovačku\, makedonsku\, tursku i španjolsku pjesmu. Distinktivan vokal u pratnji lutnje baca potpuno novo svjetlo na jedanaest davno prepoznatih pjesama.  \nKombinacija gitarista i lutnjista Edina Karamazova i Bože Vreće\, ‘umjetnika anđeoskog glasa\, koji liječi duše i otvara srce’ kako ga je svojedobno opisao New York Times\, doista je nevjerojatna. Umjetnici svoju suradnju opisuju kao vrlo neobičnu\, intimnu i prepunu narativa sa željom da glorificiraju već poznate pjesme. Projekt je uspješan i sigurno ostavlja neizbrisiv trag na glazbenoj sceni prostora nekadašnje države\, ali i šire. Ova glazba razumljiva je svima.   \nPJESME KAO SUZE \n Album otvara prvi singl\, “Emina”\, a osim nje na albumu se nalaze i: “Bor sadila moma Evgenija”\, “Nani nani (Canción sefardí)”\, “Kad ja pođoh na Bembašu (instr.)”\, “Sjela djeva pokraj mora”\, “Kâtibim”\, “Si zaljubiv edno mome”\, “Ašik osta’ na te oči”\, “Oj\, jesenske duge noći”\, “Što te nema” i “Dunjaluče\, golem ti si”.   \nSvake suze (lachimae) nisu izraz tuge\, već ponekad i radosti\, ushićenja ili ganuća. Upravo se to događa u interpretacijama Vreće i Karamazova koje svojom nestvarnom ljepotom nadilaze zemlje\, žanrove i stoljeća.   \n Uzdržanost i elegancija albuma Lachrimae čine ga veoma slušnim i primamljivim\, gotovo da podsjeća na renesansnu glazbu. Dopadljiva virtuoznost Karamazova i dirljivi kontratenor Bože Vreće stvaraju idealan spoj dvojice muzičara\, u kom se ne remeti osobnost onog drugog.   \n– Mirjana Raić Tepić  \n  \nULAZNICE: 110 kn (14\,60€) / 90 kn (11\,94€) \nDostupne online u City Pointu i na blagajni Kuće umjetnosti Arsen\, a članovi Kluba prijatelja šibenskih tvrđava uz predočenje važeće članske iskaznice ostvaruju popust pri kupnji ulaznica na fizičkim prodajnim mjestima.
URL:https://kucaarsen.hr/event/bozo-vreco-i-edin-karamazov/
LOCATION:Kuća umjetnosti Arsen\, Obala hrvatske mornarice 1\, Šibenik\, 22000
CATEGORIES:Glazba
ATTACH;FMTTYPE=image/jpeg:https://kucaarsen.hr/wp-content/uploads/2022/09/Vreco-Karamazov-1920x1080-1.jpg
GEO:43.7324192;15.8902935
X-APPLE-STRUCTURED-LOCATION;VALUE=URI;X-ADDRESS=Kuća umjetnosti Arsen Obala hrvatske mornarice 1 Šibenik 22000;X-APPLE-RADIUS=500;X-TITLE=Obala hrvatske mornarice 1:geo:15.8902935,43.7324192
END:VEVENT
END:VCALENDAR