BEGIN:VCALENDAR
VERSION:2.0
PRODID:-//Kuća umjetnosti Arsen - ECPv5.5.0//NONSGML v1.0//EN
CALSCALE:GREGORIAN
METHOD:PUBLISH
X-WR-CALNAME:Kuća umjetnosti Arsen
X-ORIGINAL-URL:https://kucaarsen.hr
X-WR-CALDESC:Događaji za Kuća umjetnosti Arsen
BEGIN:VTIMEZONE
TZID:Europe/Zagreb
BEGIN:DAYLIGHT
TZOFFSETFROM:+0100
TZOFFSETTO:+0200
TZNAME:CEST
DTSTART:20250330T010000
END:DAYLIGHT
BEGIN:STANDARD
TZOFFSETFROM:+0200
TZOFFSETTO:+0100
TZNAME:CET
DTSTART:20251026T010000
END:STANDARD
END:VTIMEZONE
BEGIN:VEVENT
DTSTART;TZID=Europe/Zagreb:20250402T180000
DTEND;TZID=Europe/Zagreb:20250402T180000
DTSTAMP:20260420T200749
CREATED:20250314T163714Z
LAST-MODIFIED:20250331T075041Z
UID:11523-1743616800-1743616800@kucaarsen.hr
SUMMARY:Božji gnjev
DESCRIPTION:Božji gnjev; r. Kristijan Milić; Hrvatska\, BiH; 2024.\, 110′ \n \n\nNovi film redatelja Kristijana Milića\, ratna drama Božji gnjev\, adaptacija je istoimena romana književnika Josipa Mlakića\, a govori o događaju 1993. godine\, za vrijeme Domovinskog rata u Srednjoj Bosni\, gdje protagonist unutar linija Hrvatskog vijeća obrane razotkriva mračna mreža ilegalnih radnji koja vodi do najviših državnih krugova. Radnja prati vojnika HVO-a Iliju koji jedno jutro nakon rutinske akcije postavljanja mina saznaje da je njegov mlađi brat Goran poginuo zajedno s osmoricom drugih vojnika\, daleko iza neprijateljskih linija. Preko prijatelja iz tajne službe doznaje da ta misija nije bila službena\, već su Goran i ostali u nju otišli kao plaćenici. Ilijina opasna potraga za istinom pretvorit će se u eksplozivnu priču o korupciji\, izdaji i osveti. Razotkrivanje mreže kriminala koja se proteže do najviših vojnih krugova odvest će u patološki osvetnički pohod. \nFilm je premijerno prikazan na 71. izdanju Pulskog filmskog festivala\, gdje je osvojio dvije Zlatne arene: za masku (Ana Bulajić Črček) i specijalne efekte (Petar Novaković). U filmu nastupaju Ivo Krešić\, Marko Cindrić\, Domagoj Mrkonjić\, Ivan Skoko\, Mario Knezović\, Dragan Despot\, Dejan Aćimović\, Vinko Kraljević\, Mate Gulin\, Mladen Vulić\, Dragan Šuvak\, Martina Mandek\, Marinko Prga\, Mijo Jurišić\, Darko Stazić\, Vlasta Ramljak\, Slaven Knezović i mnogi drugi. \n  \nULAZNICE: Za Klub prijatelja 2\,80 € / redovna cijena 4 €  \nUlaznice po redovnoj cijeni dostupne su online i na blagajni Kuće umjetnosti Arsen. \nČlanovi Kluba prijatelja popust ostvaruju na fizičkim prodajnim mjestima uz predočenje važeće članske iskaznice. \n 
URL:https://kucaarsen.hr/event/bozji-gnjev-2/
LOCATION:Kuća umjetnosti Arsen\, Obala hrvatske mornarice 1\, Šibenik\, 22000
CATEGORIES:Film
ATTACH;FMTTYPE=image/png:https://kucaarsen.hr/wp-content/uploads/2025/01/Bozji-gnjev.png
GEO:43.7324192;15.8902935
X-APPLE-STRUCTURED-LOCATION;VALUE=URI;X-ADDRESS=Kuća umjetnosti Arsen Obala hrvatske mornarice 1 Šibenik 22000;X-APPLE-RADIUS=500;X-TITLE=Obala hrvatske mornarice 1:geo:15.8902935,43.7324192
END:VEVENT
END:VCALENDAR