BEGIN:VCALENDAR
VERSION:2.0
PRODID:-//Kuća umjetnosti Arsen - ECPv5.5.0//NONSGML v1.0//EN
CALSCALE:GREGORIAN
METHOD:PUBLISH
X-WR-CALNAME:Kuća umjetnosti Arsen
X-ORIGINAL-URL:https://kucaarsen.hr
X-WR-CALDESC:Događaji za Kuća umjetnosti Arsen
BEGIN:VTIMEZONE
TZID:Europe/Zagreb
BEGIN:DAYLIGHT
TZOFFSETFROM:+0100
TZOFFSETTO:+0200
TZNAME:CEST
DTSTART:20240331T010000
END:DAYLIGHT
BEGIN:STANDARD
TZOFFSETFROM:+0200
TZOFFSETTO:+0100
TZNAME:CET
DTSTART:20241027T010000
END:STANDARD
END:VTIMEZONE
BEGIN:VEVENT
DTSTART;TZID=Europe/Zagreb:20240221T180000
DTEND;TZID=Europe/Zagreb:20240221T180000
DTSTAMP:20260422T174942
CREATED:20240201T084131Z
LAST-MODIFIED:20240205T074715Z
UID:9703-1708538400-1708538400@kucaarsen.hr
SUMMARY:Bonnie i Clyde
DESCRIPTION:Bonnie i Clyde\, r. Arthur Penn\, SAD\, 1967.\, 110′ \nBonnie i Clyde je novi naslov Češljaonice\, programa Art kina Arsen u kojem filmske klasike za publiku bira šibenski filmaš Ante Storić. On će ujedno prije projekcije dati kratki uvod u film\, dok je u nastavku njegov autorski tekst najave. \nDosađujući se na poslu\, mlada konobarica željna životnih uzbuđenja popusti pred šarmom mladog robijaša tek izišlog iz zatvora te mu se pridruži u njegovim kriminalnim radnjama… \nTako otprilike zvuči početak sinopsisa ovog kultnog filmskog naslova u kojem redatelj Arthur Penn\, vješto kombinirajući elemente gansterskog filma\, humorne melodrame i filma ceste\, iznosi biografsku priču o Bonnie Parker i Clydeu Barrowu\, možda najpoznatijim ljubavnicima kriminalnog miljea koji su u vrijeme američke gospodarske krize 30-ih godina 20. stoljeća svojim pljačkaškim pohodima stjecali iznimnu medijsku slavu\, sve do svog neslavnog kraja. \nOvaj filmski uradak nadahnut francuskim Novim valom može se pohvaliti izvrsnim izvedbama kompletne glumačke postave predvođene oskarovcima Warrenom Beattyjem i Faye Dunaway u naslovnim ulogama. \nOsvojio je dva Oscara (najbolja sporedna glumica i najbolja kamera)\, dok je Faye Dunaway osvojila englesku filmsku nagradu BAFTA kao najbolja nova glavna glumica. \nEkspresivne vizualnosti\, skokovite montaže\, svojevremeno inventivnih erotskih naznaka\, promišljenog umetanja intrigantnih psihoanalitičkih motiva i zanimljivih socijalno-kritičkih detalja\, ovaj kultni film smatra se prvim snimljenim filmom novovalnog razdoblja američke kinematografije- Novog Hollywooda. \n(Tekst najave: Ante Storić) \n\nULAZNICE\nZa Klub prijatelje 3\,50€/ redovna cijena 4€  \nUlaznice po redovnoj cijeni dostupne su online i na blagajni Kuće umjetnosti Arsen. \nČlanovi  Kluba prijatelja popust ostvaruju na fizičkim prodajnim mjestima uz predočenje važeće članske iskaznice.
URL:https://kucaarsen.hr/event/bonnie-i-clyde/
LOCATION:Kuća umjetnosti Arsen\, Obala hrvatske mornarice 1\, Šibenik\, 22000
CATEGORIES:Film
ATTACH;FMTTYPE=image/jpeg:https://kucaarsen.hr/wp-content/uploads/2024/01/BONNIE-AND-CLYDE-scaled.jpg
GEO:43.7324192;15.8902935
X-APPLE-STRUCTURED-LOCATION;VALUE=URI;X-ADDRESS=Kuća umjetnosti Arsen Obala hrvatske mornarice 1 Šibenik 22000;X-APPLE-RADIUS=500;X-TITLE=Obala hrvatske mornarice 1:geo:15.8902935,43.7324192
END:VEVENT
END:VCALENDAR