BEGIN:VCALENDAR
VERSION:2.0
PRODID:-//Kuća umjetnosti Arsen - ECPv5.5.0//NONSGML v1.0//EN
CALSCALE:GREGORIAN
METHOD:PUBLISH
X-WR-CALNAME:Kuća umjetnosti Arsen
X-ORIGINAL-URL:https://kucaarsen.hr
X-WR-CALDESC:Događaji za Kuća umjetnosti Arsen
BEGIN:VTIMEZONE
TZID:Europe/Zagreb
BEGIN:DAYLIGHT
TZOFFSETFROM:+0100
TZOFFSETTO:+0200
TZNAME:CEST
DTSTART:20250330T010000
END:DAYLIGHT
BEGIN:STANDARD
TZOFFSETFROM:+0200
TZOFFSETTO:+0100
TZNAME:CET
DTSTART:20251026T010000
END:STANDARD
END:VTIMEZONE
BEGIN:VEVENT
DTSTART;TZID=Europe/Zagreb:20250118T110000
DTEND;TZID=Europe/Zagreb:20250118T110000
DTSTAMP:20260424T225439
CREATED:20241218T140304Z
LAST-MODIFIED:20241218T140417Z
UID:11061-1737198000-1737198000@kucaarsen.hr
SUMMARY:Basne
DESCRIPTION:Tekst: Ezop/Jean de La Fontaine/Draško Zidar \nRežija: Draško Zidar i Igor Golub \nIgraju: Snježana Lančić\, Vlasta Golub i Igor Golub \nO PREDSTAVI: \nPet poznatih basni (Cvrčak i mrav\, Lisica i gavran\, Lisica i roda\, Kornjača i zec\, Miš i lav) u kojima „životinje zbore ko ljudi i svaka neku pouku nudi“ u ovoj je predstavi prikazano na vedar i komičan način. Dinamična igra i brza izmjena scena odvija se u prepoznatljivoj maniri animiranih filmova pa garantira prijemčivost dječje publike. Kroz veselu igru\, dopadljive likove\, domišljatu režiju\, maštovite kostime i šaroliku scenografiju\, edukativan karakter predstave progovara na zabavan način. Pa tako autor ove vesele i duhovite dramatizacije i adaptacije u stihovima\, Draško Zidar\, poručuje: \n„Slušajte\, djeco\, mudrosti basne \nI mnoge stvari bit će vam jasne. \nSlušajte basne mudru notu \nMudrosti nam svima treba u životu.“ \nUzrast: 3+
URL:https://kucaarsen.hr/event/basne/
LOCATION:Kuća umjetnosti Arsen\, Obala hrvatske mornarice 1\, Šibenik\, 22000
CATEGORIES:Djeca i mladi
ATTACH;FMTTYPE=image/jpeg:https://kucaarsen.hr/wp-content/uploads/2024/12/basne-lav-i-mis.jpg
GEO:43.7324192;15.8902935
X-APPLE-STRUCTURED-LOCATION;VALUE=URI;X-ADDRESS=Kuća umjetnosti Arsen Obala hrvatske mornarice 1 Šibenik 22000;X-APPLE-RADIUS=500;X-TITLE=Obala hrvatske mornarice 1:geo:15.8902935,43.7324192
END:VEVENT
END:VCALENDAR